BEGIN:VCALENDAR
VERSION:2.0
PRODID:-//wp-events-plugin.com//7.2.3.1//EN
TZID:Australia/Sydney
X-WR-TIMEZONE:Australia/Sydney
BEGIN:VEVENT
UID:2639@unswoc.org
DTSTART;TZID=Australia/Sydney:20200324T183000
DTEND;TZID=Australia/Sydney:20200324T213000
DTSTAMP:20200317T034141Z
URL:https://unswoc.org/wordpress/events/kayaking-pool-session-3-2/
SUMMARY:Kayaking Pool Session #3
DESCRIPTION:***Note\, this session is now full\, the remaining "1 available
  spot" is to serve as waiting list***\n\n&nbsp\;\n\nHey all\, this is UNSW
 OC’s 3rd kayaking pool session for Term 1 2020.\n\n\n\n&nbsp\;\nNote: Th
 is event may be cancelled or postponed on short notice as we continue to o
 bserve the current medical advice and deem whether it is safe for us to ru
 n this session.\nLikewise\, if you are at all feeling unwell please rememb
 er there will always be more pool sessions next term to come along to. Kee
 p yourself and others safe and avoid this session.\n&nbsp\;\n\nIf you’ve
  ever wanted to kayak down waterfalls\, paddle Australia’s stunning whit
 ewater rivers and come along on the club's awesome whitewater trips\, then
  these sessions are for you. The last sessions filled up super fast so mak
 e sure to sign up quick\, and let me know why you’re keen to come along 
 in your comment!\n\n&nbsp\;\n\nThese are beginner training sessions to tea
 ch you the fundamentals of rolling a whitewater kayak as well as other bas
 ic skills. Rolling is a crucial skill in whitewater rapids to get you upri
 ght in the event you flip over while paddling. With these skills you’ll 
 be able to attend the club’s whitewater kayaking trips. Everything from 
 trips to the Olympic facility in Penrith to the Snowy River Extreme Race i
 n the Snowy Mountains.\n\n&nbsp\;\n\nDetails:\n\n 	Tuesday 24th of March\n
  	Meet at the gear cupboard at 6:20pm (Sam Cracknell Pavilion\, ground f
 loor village green side)\n 	We will carry the gear over to the pool for a 
 7pm start in the water\n 	Out of the water by 9pm and then carry gear bac
 k to the gear cupboard\n\n&nbsp\;\n\nWhat to bring:\n\n 	Swimmers\n 	Towel
 \n 	$5 cash for subsidised pool entry costs\n 	Goggles (optional)\n\nNOTE
 : YOU MUST BE A COMPETENT SWIMMER TO ATTEND!\n\nIf you miss out on signup 
 this time there’s more pool sessions scheduled for next term. If you hav
 e any questions feel free to message me (Bennett Frerck).\n\n&nbsp\;\n\nFo
 r the safety of all\, attendees must have had:\n\n 	No Coronavirus (COVID-
 19) symptoms\n 	No overseas travel in the last 2 weeks\n 	No contact with 
 a confirmed case of Coronavirus\n\n&nbsp\;\n\nLet me know why you’re kee
 n to come along and if you have any prior kayaking experience in the signu
 p comment.
ATTACH;FMTTYPE=image/jpeg:https://unswoc.org/wordpress/wp-content/uploads/
 2020/02/Screen-Shot-2020-02-19-at-11.59.47-am.png
CATEGORIES:Training,Whitewater Kayaking
END:VEVENT
BEGIN:VTIMEZONE
TZID:Australia/Sydney
X-LIC-LOCATION:Australia/Sydney
BEGIN:DAYLIGHT
DTSTART:20191006T030000
TZOFFSETFROM:+1000
TZOFFSETTO:+1100
TZNAME:AEDT
END:DAYLIGHT
END:VTIMEZONE
END:VCALENDAR