BEGIN:VCALENDAR
VERSION:2.0
PRODID:-//wp-events-plugin.com//7.2.3.1//EN
TZID:Australia/Sydney
X-WR-TIMEZONE:Australia/Sydney
BEGIN:VEVENT
UID:1966@unswoc.org
DTSTART:20160315T083000Z
DTEND:20160315T110000Z
DTSTAMP:20160315T005948Z
URL:https://unswoc.org/wordpress/events/kayaking-pool-session-2016-03-15/
SUMMARY:Kayaking Pool Session
DESCRIPTION:Learn how to roll a kayak or start working on those freestyle s
 kills! Once you have your roll perfected you will be able to attend club t
 rips to Penrith Whitewater or on running rivers.\n\nMeet at the Gear Cupbo
 ard at 7:30 pm\, for an 8pm start on the water. Bring Swimmers and a towe
 l.\n\nIt costs $5 to attend for pool fees\, pay this to the person running
  the pool session.\n\n*Note: You MUST be a competent swimmer.
CATEGORIES:Whitewater Kayaking
END:VEVENT
END:VCALENDAR