BEGIN:VCALENDAR
VERSION:2.0
PRODID:-//wp-events-plugin.com//7.2.3.1//EN
TZID:Australia/Sydney
X-WR-TIMEZONE:Australia/Sydney
BEGIN:VEVENT
UID:1965@unswoc.org
DTSTART:20160308T083000Z
DTEND:20160308T110000Z
DTSTAMP:20160308T020737Z
URL:https://unswoc.org/wordpress/events/kayaking-pool-session-2016-03-08/
SUMMARY:SUCCanoe BBQ/UNSWOC learn to kayak (pool session)
DESCRIPTION:Learn how to roll a kayak or start working on those freestyle s
 kills! Once you have your roll perfected you will be able to attend club t
 rips to Penrith Whitewater or on running rivers.\n\nMeet at the USYD boats
 hed in Glebe\, for an 5:30pm start on the water. Bring Swimmers and a tow
 el.\n\n*Note: You MUST be a competent swimmer.
CATEGORIES:Whitewater Kayaking
END:VEVENT
END:VCALENDAR