BEGIN:VCALENDAR
VERSION:2.0
PRODID:-//wp-events-plugin.com//7.2.3.1//EN
TZID:Australia/Sydney
X-WR-TIMEZONE:Australia/Sydney
BEGIN:VEVENT
UID:1949@unswoc.org
DTSTART:20160524T083000Z
DTEND:20160524T110000Z
DTSTAMP:20160524T064130Z
URL:https://unswoc.org/wordpress/events/kayaking-pool-session-2-2016-05-24
 /
SUMMARY:Kayaking Pool Session
DESCRIPTION:Learn how to roll a kayak or start working on those freestyle s
 kills. You must attend a pool session before you go whitewater kayaking!\n
 \nMeet at the Gear Cupboard at 7:30 pm\, for an 8pm start on the water.\n\
 nBring Swimmers and a towel.\nIt costs $5 to attend for pool fees. Pay the
  person running the pool session.\nYou MUST be a competent swimmer.
CATEGORIES:Whitewater Kayaking
END:VEVENT
END:VCALENDAR