BEGIN:VCALENDAR
VERSION:2.0
PRODID:-//wp-events-plugin.com//7.2.3.1//EN
TZID:Australia/Sydney
X-WR-TIMEZONE:Australia/Sydney
BEGIN:VEVENT
UID:2619@unswoc.org
DTSTART;TZID=Australia/Sydney:20200310T181500
DTEND;TZID=Australia/Sydney:20200310T213000
DTSTAMP:20200304T065223Z
URL:https://unswoc.org/wordpress/events/kayaking-pool-session-2-2/
SUMMARY:Kayaking Pool Session #2
DESCRIPTION:***TRIP IS NOW FULL - any further signups will go onto a waitin
 g list in case people drop out***\n\n&nbsp\;\n\nHey all\, this is UNSWOC's
  2nd kayaking pool sessions for Term 1 2020.\n\nIf you've ever wanted to k
 ayak down waterfalls\, paddle Australia's stunning whitewater rivers\, or 
 just give a new sport a try then these sessions are for you. Last session 
 filled up super fast so make sure to sign up quick\, and let me know why y
 ou're keen to come along in your comment!\n\n&nbsp\;\n\nThese are beginner
  training sessions to teach you the fundamentals of rolling a whitewater k
 ayak as well as other basic skills. Rolling is a crucial skill in whitewat
 er rapids to get you upright in the event you flip over while paddling. Wi
 th these skills you'll be able to attend the club's awesome whitewater kay
 aking trips. Everything from trips to the Olympic facility in Penrith to t
 he Snowy River Extreme Race in the Snowy Mountains.\n\n&nbsp\;\n\nDetails:
 \n\n 	Tuesday 10th of March\n 	Meet at the gear cupboard at 6:20pm (Sam Cr
 acknell Pavilion\, ground floor village green side)\n 	We will carry the g
 ear over to the pool for a 7pm start in the water\n 	Out of the water by 9
 pm and then carry gear back to the gear cupboard\n\n&nbsp\;\n\nWhat to bri
 ng:\n\n 	Swimmers\n 	Towel\n 	$5 cash for subsidised pool entry costs\n 	
 Goggles (optional)\n\nNOTE: YOU MUST BE A COMPETENT SWIMMER TO ATTEND!\n\n
 If you miss out on signup this time there's more pool sessions scheduled f
 or week 6 with potentially more to be added. If you have any questions fee
 l free to message me (Bennett Frerck).\n\n&nbsp\;\n\nLet me know why you'r
 e keen to come along and if you have any prior kayaking experience in the 
 signup comment.
ATTACH;FMTTYPE=image/jpeg:https://unswoc.org/wordpress/wp-content/uploads/
 2020/02/Screen-Shot-2020-02-19-at-11.59.47-am.png
CATEGORIES:Kayaking,Training,Whitewater Kayaking
END:VEVENT
BEGIN:VTIMEZONE
TZID:Australia/Sydney
X-LIC-LOCATION:Australia/Sydney
BEGIN:DAYLIGHT
DTSTART:20191006T030000
TZOFFSETFROM:+1000
TZOFFSETTO:+1100
TZNAME:AEDT
END:DAYLIGHT
END:VTIMEZONE
END:VCALENDAR