BEGIN:VCALENDAR
VERSION:2.0
PRODID:-//wp-events-plugin.com//7.2.3.1//EN
TZID:Australia/Sydney
X-WR-TIMEZONE:Australia/Sydney
BEGIN:VEVENT
UID:2600@unswoc.org
DTSTART;TZID=Australia/Sydney:20200225T183000
DTEND;TZID=Australia/Sydney:20200225T213000
DTSTAMP:20200220T012016Z
URL:https://unswoc.org/wordpress/events/kayaking-pool-session-1/
SUMMARY:Kayaking Pool Session #1
DESCRIPTION:***TRIP IS NOW FULL\, the last spot is to act as a waiting list
  in case people drop out***\n\n&nbsp\;\n\nHey All. Welcome to UNSWOC's kay
 aking pool sessions for Term 1 2020.\n\nIf you've ever wanted to kayak dow
 n waterfalls\, paddle Australia's stunning whitewater rivers\, or just giv
 e a new sport a try then these sessions are for you.\n\n&nbsp\;\n\nThese a
 re beginner training sessions to teach you the fundamentals of rolling a w
 hitewater kayak as well as other basic skills. Rolling is a crucial skill 
 in whitewater rapids to get you upright in the event you flip over while p
 addling. With these skills you'll be able to attend the club's awesome whi
 tewater kayaking trips. Everything from trips to the Olympic facility in P
 enrith to the Snowy River Extreme Race in the Snowy Mountains.\n\n&nbsp\;\
 n\nDetails:\n\n 	Tuesday 25th of February\n 	Meet at the gear cupboard at 
 6:30pm (Sam Cracknell Pavilion\, ground floor village green side)\n 	We wi
 ll carry the gear over to the pool for a 7pm start in the water\n 	Out of 
 the water by 9pm and then carry gear back to the gear cupboard\n\n&nbsp\;\
 n\nWhat to bring:\n\n 	Swimmers\n 	Towel\n 	$5 cash for subsidised pool en
 try costs\n 	Goggles (optional)\n\nNOTE: YOU MUST BE A COMPETENT SWIMMER T
 O ATTEND!\n\nIf you miss out on signup this time there's more pool session
 s scheduled for weeks 4 and 6 with potentially more to be added. If you ha
 ve any questions feel free to message me (Bennett Frerck).\n\n&nbsp\;\n\nL
 et me know why you're keen to come along and if you have any prior kayakin
 g experience in the signup comment.\n\n&nbsp\;
ATTACH;FMTTYPE=image/jpeg:https://unswoc.org/wordpress/wp-content/uploads/
 2020/02/Screen-Shot-2020-02-19-at-11.59.47-am.png
CATEGORIES:Training,Whitewater Kayaking
END:VEVENT
BEGIN:VTIMEZONE
TZID:Australia/Sydney
X-LIC-LOCATION:Australia/Sydney
BEGIN:DAYLIGHT
DTSTART:20191006T030000
TZOFFSETFROM:+1000
TZOFFSETTO:+1100
TZNAME:AEDT
END:DAYLIGHT
END:VTIMEZONE
END:VCALENDAR