BEGIN:VCALENDAR
VERSION:2.0
PRODID:-//wp-events-plugin.com//7.2.3.1//EN
TZID:Australia/Sydney
X-WR-TIMEZONE:Australia/Sydney
BEGIN:VEVENT
UID:2324@unswoc.org
DTSTART:20181103T190000Z
DTEND:20181106T093000Z
DTSTAMP:20181031T030841Z
URL:https://unswoc.org/wordpress/events/kayaking-jervis-bay/
SUMMARY:Kayaking Jervis Bay
DESCRIPTION:Hey all\n\nCome on an adventure with me down to Jervis Bay\, op
 en to anyone who can swim beginners friendly. Only limited spots on this t
 rip please let me know if you have a car with roof racks.\n\nWe will leave
  early Sunday morning and head down south for a couple of days then drive 
 back to Sydney Tuesday night.\n\nPack all the things you would think you n
 eed for hiking plus a few dry bags as we will be camping overnight and usi
 ng our kayaks to store food water and gear.\n\n\n\nCheers\n\nAidan
ATTACH;FMTTYPE=image/jpeg:https://unswoc.org/wordpress/wp-content/uploads/
 2018/10/IMG_1336.jpg
CATEGORIES:Flat Water Kayaking
END:VEVENT
END:VCALENDAR