BEGIN:VCALENDAR
VERSION:2.0
PRODID:-//wp-events-plugin.com//7.2.3.1//EN
TZID:Australia/Sydney
X-WR-TIMEZONE:Australia/Sydney
BEGIN:VEVENT
UID:2629@unswoc.org
DTSTART;TZID=Australia/Sydney;VALUE=DATE:20200326
DTEND;TZID=Australia/Sydney;VALUE=DATE:20200330
DTSTAMP:20200319T100823Z
URL:https://unswoc.org/wordpress/events/kayaking-in-jervis-bay/
SUMMARY:CANCELED - Kayaking In Jervis Bay
DESCRIPTION:Hey there! It's time to cash in your leave and skip class becau
 se we are planning a multi-day sea kayaking adventure in Jervis bay. The l
 ast time we did this it was super fun and had a great chilled time on amaz
 ing beaches. Some experience paddling is preferred as we are hoping to cov
 er over 50kms or so in the 3 days. We will be paddling during the day and 
 taking camping gear in the kayaks and camping at night so make sure that y
 ou are prepared. You don't need to know how to roll to attend this event\,
  however prefrence will be given if you have shown enthusiasim for kayakin
 g in the past. People who own cars with roof racks will also have preferen
 ce\, as we are desperately looking at ways to get the boats there\, so if 
 this is you please contact me! We will meet at the UNSW Tramshed (HERE) at
  3:30pm on 26th March (Thursday) and camp in Jervis near the start of the 
 paddle to get started early on the 27th. We will return to Sydney late on 
 the 29th (Sunday).\n\nHere are some things that you will need:\nSwimmers\n
 WATER! minimum 3L/day. In a bladder or lots of bottles\nraincoat\nthermals
 \nMeals + Snacks 3x days and nights\ninsect repellent\nsunscreen and hat &
 amp\; optional sunglasses\nToilet paper &amp\; small hand shovel\nshoes th
 at can get wet\nheadtorch\n\nIf you get sea sick or motion sick please bri
 ng medication or consider skipping this trip as the ocean can be lumpy.\n\
 nGear you will also: (can be rented free from the club if needed)\nTent\nS
 leeping bag\nSleeping mat\nDry bags\n\nTell me what your favorite on the g
 o\, calorific\, adventure snack is (so I know you have read the details)\n
 \n&nbsp\;\n\nEditors notes:\n\nStuff that I need to bring From Tramsehd an
 d can't forget\n6x Kayaks\n6x Paddles\n6x Deck\n2x Split Paddle\n1x Towlin
 e\nSponges\n\nStuff I need to get in Jervis:\n4x Kayaks\n4x Paddles\n1x Sp
 lit\n3x Deck Creed\, 1x Snagdragon\n1x Towline
ATTACH;FMTTYPE=image/jpeg:https://unswoc.org/wordpress/wp-content/uploads/
 2020/03/24068634_1950078935258342_4078445971922163275_o.jpg
END:VEVENT
BEGIN:VTIMEZONE
TZID:Australia/Sydney
X-LIC-LOCATION:Australia/Sydney
BEGIN:DAYLIGHT
DTSTART:20191006T030000
TZOFFSETFROM:+1000
TZOFFSETTO:+1100
TZNAME:AEDT
END:DAYLIGHT
END:VTIMEZONE
END:VCALENDAR