BEGIN:VCALENDAR
VERSION:2.0
PRODID:-//wp-events-plugin.com//7.2.3.1//EN
TZID:Australia/Sydney
X-WR-TIMEZONE:Australia/Sydney
BEGIN:VEVENT
UID:1464@unswoc.org
DTSTART:20150916T230000Z
DTEND:20150917T040000Z
DTSTAMP:20150916T060655Z
URL:https://unswoc.org/wordpress/events/kayaking-at-middle-harbour/
SUMMARY:Kayaking at Middle Harbour
DESCRIPTION:Hey there! I will be running a flat water kayaking trip at Midd
 le harbor. There are very limited spots as it is car and boat dependent\, 
 if you have a car with roof racks and would like to come please contact m
 e and we can open up some more spots. Also if you have your own boat and c
 an get you and your boat to the water\, feel free to join!\n\nMeet at the 
 UNSW tramsheds to help with the boats at 10am\, from there we will drive t
 o Sandy bay and explore Middle harbour.\n\nBring:\n\n	lunch\n	water\n	swim
 mers\n	hat/sunscreen\n\nTo collect from gear night (Wednesday):\n\n	lifeja
 cket\n
CATEGORIES:Flat Water Kayaking
LOCATION:Middle Harbour\, Sandy Bay Rd\, Seaforth\, Australia
GEO:-33.804298;151.252884
X-APPLE-STRUCTURED-LOCATION;VALUE=URI;X-ADDRESS=Sandy Bay Rd\, Seaforth\, A
 ustralia;X-APPLE-RADIUS=100;X-TITLE=Middle Harbour:geo:-33.804298,151.2528
 84
END:VEVENT
END:VCALENDAR