BEGIN:VCALENDAR
VERSION:2.0
PRODID:-//wp-events-plugin.com//7.2.3.1//EN
TZID:Australia/Sydney
X-WR-TIMEZONE:Australia/Sydney
BEGIN:VEVENT
UID:2601@unswoc.org
DTSTART;TZID=Australia/Sydney:20200302T000000
DTEND;TZID=Australia/Sydney:20200302T153000
DTSTAMP:20200219T060928Z
URL:https://unswoc.org/wordpress/events/kayak-rescue-skills-day/
SUMMARY:Kayak Rescue Skills Day
DESCRIPTION:*YOU MUST BE A COMPETENT SWIMMER TO ATTEND THIS TRAINING SESSIO
 N*\n\nHi all!\n\nThis skills session is targeted at people who want to bec
 ome a sea or flatwater kayaking trip leader\, or if you wish to rent the c
 lub boats for personal use. Spaces will largely depend on the number of ca
 rs we have available with either roof racks or drivers willing to use the 
 club soft racks. Please add your kayaking experience and why you wish to a
 ttend in the comment tab below. If you have a car\, please also comment if
  it has roof racks or if you are happy to use soft racks.\n\nThe skills se
 ssion will run for most of the day. We will meet at the UNSW Tramsheds at 
 7:30 AM and hope to conclude around 3:30 PM. If you don't know where that 
 is\, here is a pin drop. From the Tramsheds we will drive to Kyeemagh to b
 e in the water most of the day. The skills we hope to cover are:\n\n 	Corr
 ect handling and loading of boats onto cars\n 	The club gear available for
  use\n 	Towing\n 	Heel hook rescue\n 	X-rescue\n 	Rescuing a trapped or un
 conscious paddler (Hand of God rescue)\n 	Cleopatra's Needle rescue\n 	Usi
 ng a paddle float for self rescue\n\nFor those who have been to pool sessi
 ons\, we can also cover:\n\n 	Re-entry rolls - assisted and unassisted\n 	
 T-rescues\n\nWhat to Bring:\n\n 	Swimmers +/ wetsuit\n 	Towel\n 	Food\n 	W
 ater\n 	Hat\n 	Sunscreen\n 	Dry clothes\n 	Wet shoes *optional\n 	Dry shoe
 s\n 	Fuel money for your driver\n\nAll kayaking gear will be sourced at th
 e Tramsheds. If you need a club wetsuit it is your responsibility to sourc
 e one from the gear night week 2. We will be in the water almost all day.
ATTACH;FMTTYPE=image/jpeg:https://unswoc.org/wordpress/wp-content/uploads/
 2020/02/kayak-rescue.jpg
CATEGORIES:Flat Water Kayaking,Kayaking,Sea Kayaking,Training,Whitewater
 Kayaking
END:VEVENT
BEGIN:VTIMEZONE
TZID:Australia/Sydney
X-LIC-LOCATION:Australia/Sydney
BEGIN:DAYLIGHT
DTSTART:20191006T030000
TZOFFSETFROM:+1000
TZOFFSETTO:+1100
TZNAME:AEDT
END:DAYLIGHT
END:VTIMEZONE
END:VCALENDAR