BEGIN:VCALENDAR
VERSION:2.0
PRODID:-//wp-events-plugin.com//7.2.3.1//EN
TZID:Australia/Sydney
X-WR-TIMEZONE:Australia/Sydney
BEGIN:VEVENT
UID:2473@unswoc.org
DTSTART;TZID=Australia/Sydney:20191022T183000
DTEND;TZID=Australia/Sydney:20191022T213000
DTSTAMP:20191008T052618Z
URL:https://unswoc.org/wordpress/events/kayak-pool-session-4/
SUMMARY:Kayak Pool Session
DESCRIPTION:Do you want to come on our whitewater paddling trips? Have you 
 always wanted to kayak down waterfalls? Or did you swim at the Snowy River
  Extreme Race this year? If the answer is yes to any of these come to our 
 pool sessions and practice or learn to roll!\n\n&nbsp\;\n\nSo what is a po
 ol session? Well\, essentially whitewater kayaking can be inherently dange
 rous especially if you flip over and can’t roll up again. These sessions
  are there to teach you the basic skills required to stay safe on a river.
  We will mainly focus on rolling but we can also teach you various other k
 ayaking skills if you are interested. Once you have a firm grasp of these 
 skills\, you’ll be invited on various whitewater trips and have access t
 o the whitewater kayaks.\n\n&nbsp\;\n\nWhen and where:\n\n 	We will meet a
 t the Gear Cupboard (near the BBQs at Sam Cracknell Pavilion) at 6:30pm.\n
  	From there we will carry the gear over to the UNSW pool for a 7:00pm sta
 rt in the water.\n 	We will be out of the water by 9:00pm and we will be d
 one with packup by 9:30pm latest.\n\nCost:\n\n 	You will have to pay your 
 pool entry to the club in cash. The club subsidises your entry so it only 
 costs $5.\n\nWhat to bring:\n\n 	Swimmers\n 	Towel\n 	bag for your wet stu
 ff\n 	Goggles *optional\n 	Earplugs *optional\n 	Noseplug *optional\n
ATTACH;FMTTYPE=image/jpeg:https://unswoc.org/wordpress/wp-content/uploads/
 2019/03/JRad.jpg
CATEGORIES:Training,Whitewater Kayaking
END:VEVENT
BEGIN:VTIMEZONE
TZID:Australia/Sydney
X-LIC-LOCATION:Australia/Sydney
BEGIN:DAYLIGHT
DTSTART:20191006T030000
TZOFFSETFROM:+1000
TZOFFSETTO:+1100
TZNAME:AEDT
END:DAYLIGHT
END:VTIMEZONE
END:VCALENDAR