BEGIN:VCALENDAR
VERSION:2.0
PRODID:-//wp-events-plugin.com//7.2.3.1//EN
TZID:Australia/Sydney
X-WR-TIMEZONE:Australia/Sydney
BEGIN:VEVENT
UID:1499@unswoc.org
DTSTART:20150908T083000Z
DTEND:20150908T110000Z
DTSTAMP:20151026T082328Z
URL:https://unswoc.org/wordpress/events/kayak-pool-session-2015-09-08/
SUMMARY:Kayak Pool Session
DESCRIPTION:Learn how to roll a kayak or start working on those flatwater f
 reestyle skills.\n\nMeet at the Gear Cupboard at 7:30 pm\, for an 8pm star
 t on the water.\n\nBring Swimmers\nIt costs $5 to attend for pool fees. Pa
 y the person running the pool session.\nYou need to be a good swimmer.
CATEGORIES:Flat Water Kayaking
LOCATION:\, \, 
X-APPLE-STRUCTURED-LOCATION;VALUE=URI;X-ADDRESS=\, ;X-APPLE-RADIUS=100;X-TI
 TLE=:geo:0,0
END:VEVENT
END:VCALENDAR