BEGIN:VCALENDAR
VERSION:2.0
PRODID:-//wp-events-plugin.com//7.2.3.1//EN
TZID:Australia/Sydney
X-WR-TIMEZONE:Australia/Sydney
BEGIN:VEVENT
UID:2471@unswoc.org
DTSTART;TZID=Australia/Sydney:20190924T183000
DTEND;TZID=Australia/Sydney:20190924T213000
DTSTAMP:20190924T014518Z
URL:https://unswoc.org/wordpress/events/kayak-pool-session-2/
SUMMARY:Kayak Pool Session
DESCRIPTION:Do you want to come on our whitewater paddling trips? Have you 
 always wanted to kayak down waterfalls? Or do you want to represent UNSWOC
  at the Snowy River Extreme Race this year and need to strengthen that rol
 l technique? If the answer is yes to any of these come to our pool session
 s and practice or learn to roll!\n\nSo what is a pool session? Well\, esse
 ntially whitewater kayaking can be inherently dangerous especially if you 
 flip over and can’t roll up again. These sessions are there to teach you
  the basic skills required to stay safe on a river. We will mainly focus o
 n rolling but we can also teach you various other kayaking skills if you a
 re interested. Once you have a firm grasp of these skills\, you’ll be in
 vited on various whitewater trips and have access to the whitewater kayaks
 .\n\nWhen and where:\n\n 	We will meet at the Gear Cupboard (near the BBQs
  at Sam Cracknell Pavilion) at 6:30pm.\n 	From there we will carry the gea
 r over to the UNSW pool for a 7:00pm start in the water.\n 	We will be out
  of the water by 9:00pm and we will be done with packup by 9:30pm latest.\
 n\nCost:\n\n 	You will have to pay your pool entry to the club in cash. Th
 e club subsidises your entry so it only costs $5.\n\nWhat to bring:\n\n 	S
 wimmers\n 	Towel\n 	bag for your wet stuff\n 	Goggles *optional\n 	Earplug
 s *optional\n 	Noseplug *optional\n
ATTACH;FMTTYPE=image/jpeg:https://unswoc.org/wordpress/wp-content/uploads/
 2019/09/pool-sesh.jpg
CATEGORIES:Training,Whitewater Kayaking
END:VEVENT
BEGIN:VTIMEZONE
TZID:Australia/Sydney
X-LIC-LOCATION:Australia/Sydney
BEGIN:STANDARD
DTSTART:20190407T020000
TZOFFSETFROM:+1100
TZOFFSETTO:+1000
TZNAME:AEST
END:STANDARD
END:VTIMEZONE
END:VCALENDAR