BEGIN:VCALENDAR
VERSION:2.0
PRODID:-//wp-events-plugin.com//7.2.3.1//EN
TZID:Australia/Sydney
X-WR-TIMEZONE:Australia/Sydney
BEGIN:VEVENT
UID:3602@unswoc.org
DTSTART;TZID=Australia/Sydney:20250726T163000
DTEND;TZID=Australia/Sydney:20250726T183000
DTSTAMP:20250702T052528Z
URL:https://unswoc.org/wordpress/events/kayak-pool-rolling-session/
SUMMARY:Kayak Pool Rolling Session [Trip Full\, Waitlist open]
DESCRIPTION:G'day Boaters and Boaters to be\,\n\nI have organised with the 
 UNSW pool to have some kayak training sessions. This will be a multi-club 
 collaboration\, and so signups are being done on a google spreadsheet: htt
 ps://docs.google.com/spreadsheets/d/1mNa_fgxMpq39W8kGxgALKf3oQEJekQ3H0swG6
 Qq7oTA/edit?usp=sharing\n\nYou still have to sign up on the website to be 
 covered by insurance Please state in the comment that you have signed up 
 on the google spreadsheet AND paid to the details in the google spreadshee
 t\n\nWhen: Saturday 4:30pm (Check spreadsheet for date)\n\nWhen to arrive:
  Please arrive 15 minutes early for setup\n\nWhere: UNSW Fitness and Aquat
 ic Centre https://maps.app.goo.gl/Qzs7x9SEB88vB57u9\n\nPrice: $10 for UNSW
 OC members and  $15 for everyone else\n\nWhat to bring:\nYour club may be
  able to provide you with some/all of these\, please discuss with someone 
 in your club\n\n 	Boat: please bring the smallest boat you have i.e. a pla
 y boat if possible\n\n 	You must thoroughly wash your boat inside and out 
 before coming to the pool\n\n\n 	Paddle\n 	Helmet: knocking your head is a
  real risk\, helmets are a must\n 	Spray deck\n 	Life jacket/PFD\n 	Swimme
 rs\n\n&nbsp\;\n\nWhat to expect:\n\nThe pool session is a chance for paddl
 ers in the community (new and old alike) to learn and practice rolling fro
 m other more experienced paddlers. There won’t be 1 single instructor st
 anding in front teaching everyone. Instead\, it will more so be a matter o
 f approaching a more experienced paddler and asking for some guidance and 
 lessons for learning what you want to learn. As such\, if you have a frien
 d who is experienced\, it is worth asking them to come along (for free) to
  be able to help teach you. Learning to roll is a fairly 1 on 1 task\, and
  so an experienced paddler won’t necessarily be able to dedicate their e
 ntire 2 hours to just you.We will have 3 lanes to use for learning and pra
 cticing rolling in the shallow end\, but only so many boats can actually f
 it into the shallow end. As such\, please expect that there will be times 
 where you aren’t able to be in the shallow end where a helper can stand 
 and guide you. Instead\, you can spend time practicing other techniques su
 ch as hip flicks\, T rescues\, or paddle techniques.\n\n&nbsp\;\n\nFAQs\n\
 nQ. I am a skilled paddler and want to help teach\, do I need to pay?\n\nA
 . No\, it is FREE for helpers/rolling instructors. If you would like to co
 me along and help teach\, you can come for free. Please put your name at t
 he bottom of the spreadsheet in the relevant section for helpers.\n\nQ. I 
 can no longer attend\, what should I do?\n\nA. You can give your ticket to
  a friend and have them pay you back. If you don’t have a friend who wan
 ts to go\, please contact Adam Riesel (via mobile or facebook) and a refun
 d can be organised IF the space can be filled from the waitlist.\n\nQ. I h
 ave an experienced friend who can teach me to roll\, can they come?\n\nA. 
 Yes definitely\, your experienced friends are absolutely allowed to come F
 OR FREE to help teach you (and anyone else they want to teach). Please put
  their details at the bottom of the signups excel sheet\n\nQ. I don’t ha
 ve a boat or any gear\, can I borrow from a club?\n\nA. If you are a club 
 member and your club has boats\, please discuss with your club and please 
 opt for the smallest boat style your cub has. If your club doesn’t have 
 boats\, or you aren’t part of a club\, please contact Adam Riesel (mobil
 e or facebook) and we can discuss options
CATEGORIES:Whitewater Kayaking
LOCATION:https://maps.app.goo.gl/Qzs7x9SEB88vB57u9 
END:VEVENT
BEGIN:VTIMEZONE
TZID:Australia/Sydney
X-LIC-LOCATION:Australia/Sydney
BEGIN:STANDARD
DTSTART:20250406T020000
TZOFFSETFROM:+1100
TZOFFSETTO:+1000
TZNAME:AEST
END:STANDARD
END:VTIMEZONE
END:VCALENDAR