BEGIN:VCALENDAR
VERSION:2.0
PRODID:-//wp-events-plugin.com//7.2.3.1//EN
TZID:Australia/Sydney
X-WR-TIMEZONE:Australia/Sydney
BEGIN:VEVENT
UID:2327@unswoc.org
DTSTART;VALUE=DATE:20181110
DTEND;VALUE=DATE:20181112
DTSTAMP:20200126T222814Z
URL:https://unswoc.org/wordpress/events/katoomba-kanangra-advanced-hiking/
SUMMARY:Katoomba to Kanangra - Intermediate hiking
DESCRIPTION:Jenny and I are doing the K to K this weekend and we have space
  for 2 more people (unfortunately only 2 due to car space). This is a spec
 tacular walk in the Blue Mountains with great scenery\, amazing lookouts a
 nd some classic Blue Mountains bushland.\n\nThe distance is 43 km over 2 d
 ays\, however the terrain is steep and difficult in parts and there is nav
 igation involved. Because of this\, I have put the walk down as intermedia
 te - you need previous experience on overnight walks and a good level of f
 itness.\n\nWe will be driving up on Friday (9/11/18) night and coming back
  late on Sunday night. Message me or Jenny with experience\, excitement\, 
 and how much you like oranges if you'd like to come.
CATEGORIES:Hectic Hiking
END:VEVENT
END:VCALENDAR