BEGIN:VCALENDAR
VERSION:2.0
PRODID:-//wp-events-plugin.com//7.2.3.1//EN
TZID:Australia/Sydney
X-WR-TIMEZONE:Australia/Sydney
BEGIN:VEVENT
UID:3266@unswoc.org
DTSTART;TZID=Australia/Sydney;VALUE=DATE:20230618
DTEND;TZID=Australia/Sydney;VALUE=DATE:20230619
DTSTAMP:20230612T130959Z
URL:https://unswoc.org/wordpress/events/karloo-uloola-falls-beginnners-day
 -hike/
SUMMARY:Karloo &amp\; Uloola Falls beginnner's day hike
DESCRIPTION:Hi guys\,\n\nLloyd and I will be leading a day hike in the Roya
 l National Park on Sunday the 18th of June.\n\nWe will be meeting at Heath
 cote station and will walk to Karloo pools\, where we can stop for a swim 
 (weather permitting)\, before heading on past Uloola Falls Campground and 
 then finishing up at Waterfall Station.\n\nThis trip is very beginner frie
 ndly\, assuming you have a base level of fitness and can comfortably walk 
 11km in a day.\n\nPlease ensure that you follow the packing list below.\n\
 nYou will need:\nDay pack\nLunch\nSnacks\nSwimmers and a towel\nWATER (2L 
 minimum!)\nComfortable walking shoes\nSunscreen/hat\n\nPlease let us know 
 your level of fitness and experience in the comments below.\n\nTrip notes:
 \nhttp://www.wildwalks.com/bushwalking-and-hiking-in-nsw/royal-national-pa
 rk/uloola-track.html\n\n&nbsp\;\n\n-Dion
ATTACH;FMTTYPE=image/jpeg:https://unswoc.org/wordpress/wp-content/uploads/
 2023/06/karloo-walking-track-01.jpg
CATEGORIES:Bushwalking
END:VEVENT
BEGIN:VTIMEZONE
TZID:Australia/Sydney
X-LIC-LOCATION:Australia/Sydney
BEGIN:STANDARD
DTSTART:20230402T020000
TZOFFSETFROM:+1100
TZOFFSETTO:+1000
TZNAME:AEST
END:STANDARD
END:VTIMEZONE
END:VCALENDAR