BEGIN:VCALENDAR
VERSION:2.0
PRODID:-//wp-events-plugin.com//7.2.3.1//EN
TZID:Australia/Sydney
X-WR-TIMEZONE:Australia/Sydney
BEGIN:VEVENT
UID:702@unswoc.org
DTSTART;VALUE=DATE:20150307
DTEND;VALUE=DATE:20150308
DTSTAMP:20150224T184436Z
URL:https://unswoc.org/wordpress/events/kanangra-main-canyon/
SUMMARY:Kanangra Main -Expert Canyon
DESCRIPTION:Steve\, Jenny\, Damon\, Dion &amp\; Sam are planning a trip to 
 descend Kanangra Main\, as was organised on the Facebook group.\n\nThe tri
 p is closed - All the canyon trips off the Kanangra plateau require small\
 , fast\, fit\, expert teams to be done safely. Steve - "When I did K Main 
 a while ago it took 15 hours car to car with an experienced party of 4 - s
 o this trip shouldn't be underestimated"\n\nWe're gunna need a bigger rope
 .
CATEGORIES:Canyoning
LOCATION:Kanangra-Boyd National Park\, Kanangra Road\, Jenolan\, Australia
GEO:-33.853909;150.026154
X-APPLE-STRUCTURED-LOCATION;VALUE=URI;X-ADDRESS=Kanangra Road\, Jenolan\, A
 ustralia;X-APPLE-RADIUS=100;X-TITLE=Kanangra-Boyd National Park:geo:-33.85
 3909,150.026154
END:VEVENT
END:VCALENDAR