BEGIN:VCALENDAR
VERSION:2.0
PRODID:-//wp-events-plugin.com//7.2.3.1//EN
TZID:Australia/Sydney
X-WR-TIMEZONE:Australia/Sydney
BEGIN:VEVENT
UID:3679@unswoc.org
DTSTART;TZID=Australia/Sydney:20251115T000000
DTEND;TZID=Australia/Sydney:20251116T000000
DTSTAMP:20251114T121256Z
URL:https://unswoc.org/wordpress/events/kanangra-canyoning-weekend-advance
 d/
SUMMARY:Kanangra Canyoning Weekend - Advanced
DESCRIPTION:Suitable for L2 canyoners and L2 aspirants.\n\nA run through Da
 nae Brook (ropewiki.com/Danae_Brook_Canyon) on Saturday... and Sunday will
  be played by ear depending on how tired the team is\, but will probably B
 ox Creek (ropewiki.com/Box_Creek_Canyon) or Dione Dell (ropewiki.com/Dione
 _Dell)\n\nTrip is very weather and water level dependant and plans can cha
 nge due to this.\n\nYou will be expected to bring your A game for this tri
 p... it's all about teamwork\, communication\, efficiency and moving!\n\nT
 rip led by Alex Motyka\, supported by Raff O'Grady\, Leo J\, Sudarshan.\nS
 aturday - Box Creek canyon details:\n\n 	Start time will be 10:00 from Box
  Creek canyon carpark (-33.9584\, 149.9937)\n 	Canyon details ropewiki.com
 /Box_Creek_Canyon\n 	Expect the canyon to last between 4 and 6 hours\n\n&n
 bsp\;\nSunday - Danae Brook canyon details:\n\n 	Start time will be 07:00 
 sharp from the Boyd River campground.\n 	Parking for the canyon will be at
  -33.9948\, 150.0878\n 	Expect the day to last anywhere between 8 to 12 ho
 urs\n 	We will be taking the climbing exit.\n 	You are expected to have me
 chanical ascension gear (and know how to use it)\n 	We will have the multi
 -pitch climb rigged with multiple static ropes to aide simwltaious ascent 
 (hence the need for mechanical ascension gear)\n 	Climbing shoes are not r
 equired.\n 	All party members are expected to have a high decibel whistle 
 (100db or higher e.g. Foxc 40) and a "modified 8" canyoning descender\n 	P
 arty members must also carry a WATERPROOF headlamp as we plan to go throug
 h a feature called "The Carwash"... a cave-like structure with underground
  waterfall\n 	Bring good vibes and snacks to share\n 	Failure to bring the
  required gear (or snacks 😂) may result in exclusion from the trip\n\n&
 nbsp\;\n\n&nbsp\;\n\n
CATEGORIES:Canyoning
LOCATION:https://maps.app.goo.gl/qeFPy8nKsqLShpSx5
END:VEVENT
BEGIN:VTIMEZONE
TZID:Australia/Sydney
X-LIC-LOCATION:Australia/Sydney
BEGIN:DAYLIGHT
DTSTART:20251005T030000
TZOFFSETFROM:+1000
TZOFFSETTO:+1100
TZNAME:AEDT
END:DAYLIGHT
END:VTIMEZONE
END:VCALENDAR