BEGIN:VCALENDAR
VERSION:2.0
PRODID:-//wp-events-plugin.com//7.2.3.1//EN
TZID:Australia/Sydney
X-WR-TIMEZONE:Australia/Sydney
BEGIN:VEVENT
UID:485@unswoc.org
DTSTART:20140523T050000Z
DTEND:20140525T100000Z
DTSTAMP:20140522T103749Z
URL:https://unswoc.org/wordpress/events/kanangra-canyoning-intermediate-tr
 ip/
SUMMARY:Kanangra Canyoning - Intermediate Trip
DESCRIPTION:Hi guys\,\n\nWe're heading out to Kanangra-Boyd national park t
 his weekend (not far past Jenolan Caves) to do a couple of canyons - Kala
 ng Falls and Dione Dell. Both are mainly dry canyons so wetsuits are not r
 equired\, although a rain jacket is recommended to protect from the spray 
 of the waterfalls.\n\nApologies to beginners but this trip is only open to
  people who have canyoned before\, due to the rough and remote terrain and
  several technical abseils.\n\nYou will need to organise all your own gear
 . This includes (but is not limited to):\n\n	harness\, helmet\, belay devi
 ce\, carabiners\, prussiks\, safety slings\n	food and water\, water purifi
 cation tablets (optional)\, water bottle\n	backpack\, drybag\, emergency b
 lanket\, headlight torch\, matches\, sunscreen\, whistle\, knife\n	rain ja
 cket\, warm clothes\, long pants (there are stinging nettles!)\, thermals\
 , other clothes\n	sleeping bag\, tent\, sleeping mat\, cutlery and plates\
 , toilettries\n\nWe will be heading up on Friday night and arriving back l
 ate Sunday night\, however there is the option for people to come for just
  one day depending on the availability of drivers. Please let me know if y
 ou'd like to come just one or both days as I will have to organise transpo
 rt.\n\nGet excited! :D\n\nP.S. Track notes can be found here: http://ozult
 imate.com/canyoning/track_notes/kalang.htm &amp\; http://ozultimate.com/c
 anyoning/track_notes/dione_dell.htm\n\n&nbsp\;\n\n&nbsp\;\n\n&nbsp\;\n\n&n
 bsp\;\n\n&nbsp\;\n\n&nbsp\;\n\n&nbsp\;
CATEGORIES:Canyoning
END:VEVENT
END:VCALENDAR