BEGIN:VCALENDAR
VERSION:2.0
PRODID:-//wp-events-plugin.com//7.2.3.1//EN
TZID:Australia/Sydney
X-WR-TIMEZONE:Australia/Sydney
BEGIN:VEVENT
UID:3758@unswoc.org
DTSTART;TZID=Australia/Sydney:20260328T070000
DTEND;TZID=Australia/Sydney:20260329T190000
DTSTAMP:20260318T062658Z
URL:https://unswoc.org/wordpress/events/kanangra-canyoning-advanced/
SUMMARY:Kanangra Canyoning -  Advanced
DESCRIPTION:Join Raff and Alex for an epic (read long and hard) Kanangra ca
 nyoning weekend. We're going to target Kanangra Main canyon on Saturday an
 d Sunday will be decided on Saturday night once we know how tired everyone
  is.\n\nWe will camp at Boyd River campground. You will need to arrive on 
 Friday night. Bring camping gear and food for 2 days.\n\n&nbsp\;\nYou need
  to have\n\n 	Prior canyoning experience (bonus points if you can rig rele
 asable systems)\n 	Experience abseiling big drops (40m+)\n 	Endurance &amp
 \; fitness. Kanangra is a long hard day with lots of elevation gain\n 	Abi
 lity to swim. This is a wet canyon with pools of up to 50m\n\n&nbsp\;\nWha
 t to bring\n\n 	Modified Eight* (a basic Figure 8 is not good enough)\n 	H
 elmet *\n 	Canyoning Harness *\n 	Full length wetsuit *\n 	3x Locking Cara
 biners *\n 	Safety (a 120cm sling works) *\n 	Drybag or keg *\n 	Canyon pa
 ck *\n 	Headtorch\n 	Emergency blanket (can be bought from gear cupboard f
 or $5)\n 	Swimmers (for under your wetsuit)\n 	Wool or wetsuit socks\n 	Th
 ermals\n 	Raincoat\n 	Old shoes with good grip\n 	2L of water\n 	Lunch\n 	
 Snacks (personal and to share)\n 	Hiking clothes (will get wet on the walk
  out)\n 	Dry clothes and a towel (for the car)\n 	Medications you require 
 (e.g asthma puffer\, epipen)\n\n&nbsp\;\n\nIf you have your own gear pleas
 e bring it. Nothing you wear in the canyon can be cotton\, this includes s
 ocks and underwear!\n\n&nbsp\;\nIn your comment please let us know\n\n 	Yo
 ur fitness\n 	Your swimming ability\n 	Your canyoning/ outdoor experience\
 n 	Any food allergies or dietary preferences (so we know what sharable sna
 cks to bring)\n\nPlease message Alex or Raff on facebook with any question
 s.\n\n&nbsp\;\n\n&nbsp\;
CATEGORIES:Canyoning
LOCATION:https://maps.app.goo.gl/5muie3mKgx7DBi1N7
END:VEVENT
BEGIN:VTIMEZONE
TZID:Australia/Sydney
X-LIC-LOCATION:Australia/Sydney
BEGIN:DAYLIGHT
DTSTART:20251005T030000
TZOFFSETFROM:+1000
TZOFFSETTO:+1100
TZNAME:AEDT
END:DAYLIGHT
END:VTIMEZONE
END:VCALENDAR