BEGIN:VCALENDAR
VERSION:2.0
PRODID:-//wp-events-plugin.com//7.2.3.1//EN
TZID:Australia/Sydney
X-WR-TIMEZONE:Australia/Sydney
BEGIN:VEVENT
UID:3475@unswoc.org
DTSTART;TZID=Australia/Sydney:20240922T060000
DTEND;TZID=Australia/Sydney:20240922T170000
DTSTAMP:20240917T231302Z
URL:https://unswoc.org/wordpress/events/jugglers-canyon-dry-beginners-trip
 /
SUMMARY:Jugglers canyon (dry) – beginners trip!
DESCRIPTION:Jason and I are leading a trip on Sunday through Jugglers canyo
 n! This is going to be a super awesome trip! Jugglers is a super pleasant 
 canyon near the Grand Canyon at Medlow Bath.\n\nCheck this out!\n\n\n\nSic
 k right?! More info and pics can be found here: https://ozultimate.com/can
 yoning/track_notes/jugglers.htm\n\nThis is a whole day adventure so you ne
 ed to be fit! It’s alright if you have not abseiled before\, we can show
  you the ropes. Please fill out the form when you sign up and comment with
  your experience (if you don’t have rope skills\, just comment what othe
 r outdoor activities you have done) and your favorite outdoors snack (pref
 erably also bring it to the canyon 😀 )!\n\nThis is a dry canyon so we d
 on’t expect to get too wet (aka wet feet\, but probably no swims)\, but 
 it will still be chilly\, so bring warm clothing. I usually wear thermals\
 , a pair of old shorts\, shirt and a rain jacket on top.\n\nWhat you need:
 \n\n 	harness*\n 	helmet*\n 	safety + biner*\n 	figure 8 + biner*\n 	backp
 ack that can get wet(*)\n 	headtorch (if you dont have a head torch\, brin
 g at least some kind of torch)\n 	drybag*\n 	runners that may get trashed\
 n 	thermals and woolen or synthetic socks (don’t wear ANY cotton\, you w
 ill be miserably cold if you get wet!)\n 	spare set of thermals to carry i
 n your drybag (for emergencies)\n 	rain jacket\n 	lunch and snacks!\n 	at 
 least 2l of water\n 	dry clothes and shoes for the car ride back\n 	advent
 ure spirit and heaps of good mood!\n\n*you can get this from the club on g
 ear night (check the unswoc page to hire)\n\nIf you have any questions abo
 ut gear\, the gear officers will be able to help you on Thursday night at 
 the gear cupboard. Ask them all the questions you want\n\nWe will meet at 
 the carpark pretty early (8-9am!) and we probably need some drivers so ple
 ase let me know if you have a car!\n\nGet keen and see ya there!\n\nCheers
 \,\n\nSteve + Jason
CATEGORIES:Canyoning
LOCATION:https://www.google.com/maps/place/Grand+Canyon+Walking+Track/@-33.
 649376,150.318841,697m/data=!3m2!1e3!4b1!4m6!3m5!1s0x6b1271e4b53a9b5d:0xee
 78324e498362e!8m2!3d-33.649376!4d150.3214159!16s%2Fg%2F1thr79tw?entry=ttu&
 g_ep=EgoyMDI0MDkxNS4wIKXMDSoASAFQAw%3D%3D
END:VEVENT
BEGIN:VTIMEZONE
TZID:Australia/Sydney
X-LIC-LOCATION:Australia/Sydney
BEGIN:STANDARD
DTSTART:20240407T020000
TZOFFSETFROM:+1100
TZOFFSETTO:+1000
TZNAME:AEST
END:STANDARD
END:VTIMEZONE
END:VCALENDAR