BEGIN:VCALENDAR
VERSION:2.0
PRODID:-//wp-events-plugin.com//7.2.3.1//EN
TZID:Australia/Sydney
X-WR-TIMEZONE:Australia/Sydney
BEGIN:VEVENT
UID:889@unswoc.org
DTSTART;VALUE=DATE:20150814
DTEND;VALUE=DATE:20150815
DTSTAMP:20150811T044519Z
URL:https://unswoc.org/wordpress/events/jugglers-beginner-canyon/
SUMMARY:Jugglers Beginner Canyon
DESCRIPTION:Jugglers Canyon is a "dry" canyon. You can the details of the 
 canyon here: http://ozultimate.com/canyoning/track_notes/tiger_snake.htm\
 nI might change the canyon choice\, but it will be of a similar nature.\n\
 nYou will not need to have abseiled before but you should be comfortable w
 ith heights.\n\nThe plan:\nMeet at UNSW at 7am and drive up. If it is much
  easier for people we can go via Central station to pick people up.\nHopef
 ully set off on the canyon at about 10am.\nDo the canyon and have some lun
 ch.\nDrive back down.\nYou will require the following:\n\n	Small backpack\
 n	Lunch\n	2L of water\n	Shoes and socks which can get dirty and wet. Dunlo
 p Volleys are perfect for this.\n	Warm clothing. Thermals with shorts/pant
 s over the top and a jumper are ideal. NO COTTON\n	No need for a wetsuit\n
 	Head torch\n	Some fuel money\n	Dry clothes for afterwards\n\nGear require
 d (this can all be borrowed from the club):\n\n	Harness\n	Descender\n	4x C
 arabiners\n	2x Prusiks\n	Safety sling\n	Helmet\n\nWe will be sorting out g
 ear this Wednesday from 5pm-6pm at the gear cupboard. Please come along if
  you need to borrow gear. If you cannot make it please message me with wha
 t you require.\n\nCheers\,\n\nNiels
CATEGORIES:Canyoning
LOCATION:\, \, 
X-APPLE-STRUCTURED-LOCATION;VALUE=URI;X-ADDRESS=\, ;X-APPLE-RADIUS=100;X-TI
 TLE=:geo:0,0
END:VEVENT
END:VCALENDAR