BEGIN:VCALENDAR
VERSION:2.0
PRODID:-//wp-events-plugin.com//7.2.3.1//EN
TZID:Australia/Sydney
X-WR-TIMEZONE:Australia/Sydney
BEGIN:VEVENT
UID:630@unswoc.org
DTSTART;VALUE=DATE:20141019
DTEND;VALUE=DATE:20141020
DTSTAMP:20141015T160032Z
URL:https://unswoc.org/wordpress/events/juggler-grand-double-header/
SUMMARY:Juggler and Grand Double Header
DESCRIPTION:G'day\, Team.\n\nThis sunday we are going to do the Juggler and
  grand double header. Should be fun.\n\nThe plan is to head up on Sunday m
 orning and meet in Blackheath. Dave will be driving up\, however I will al
 ready be in the mountains. 4 people can go with Dave\, while the other thr
 ee will need to catch the train up. The first 4 people to register and con
 tact dave get to go with him. We will meet at blackheath train station at 
 about 9:30am.\n\nYou will need:\n\n	Harness\,\n	Belay device\,\n	A Helmet\
 n	Food\,\n	Water\,\n	A backpack\,\n	A wetsuit\,\n	Enclosed shoes with warm
  (not cotton!) socks.\n\nIf you do not have this things\, please contact m
 e at dpvandermaat@gmail.com or call me on 0430731491 and I can sort you ou
 t. As far as i know\, the club has no wetsuits though\, but to be honest\
 , you wont get too wet until the final swim in Grand\, and then you run st
 raight up the hill. If you can't get access to one\, just bring a pair of 
 warm thermals and old jumper (NOT COTTON!).\n\nSee you on Sunday :D.\n\n&n
 bsp\;\n\n&nbsp\;\n\n&nbsp\;
ATTACH;FMTTYPE=image/jpeg:https://unswoc.org/wordpress/wp-content/uploads/
 2013/07/Damon-Canyon.jpg
CATEGORIES:Canyoning
LOCATION:\, \, 
X-APPLE-STRUCTURED-LOCATION;VALUE=URI;X-ADDRESS=\, ;X-APPLE-RADIUS=100;X-TI
 TLE=:geo:0,0
END:VEVENT
END:VCALENDAR