BEGIN:VCALENDAR
VERSION:2.0
PRODID:-//wp-events-plugin.com//7.2.3.1//EN
TZID:Australia/Sydney
X-WR-TIMEZONE:Australia/Sydney
BEGIN:VEVENT
UID:2267@unswoc.org
DTSTART:20180811T110000Z
DTEND:20180812T110000Z
DTSTAMP:20180801T013100Z
URL:https://unswoc.org/wordpress/events/journey-alleged-orange-puddle-b4-5
 -extension/
SUMMARY:Journey to the alleged orange puddle in B4-5 Extension
DESCRIPTION:Hey hey\, it’s caving season again!!\n\nThe plan: Imma be dri
 ving down to Bungonia late (leaving Sydney around 10pm) Saturday the 11th.
  But you do you. We will be starting the cave early-ish Sunday the 12th. 
 Early like 9 or 10am. Expecting it to take around 8-10 hours\, depending o
 nb how fast we move/how far we get\n\nIncludes such features as: 8 hours o
 f wiggling (too low to crawl)\, huge caverns (you can sit upright in some 
 of them)\, sketchy down (then up) climbs\, a couple of tight squeezes\, bl
 ack water to wade through\, potential bad air\, and\, most importantly\, (
 allegedly) AN ORANGE LAKE at the end\n\n\n&nbsp\;\n\nPACKING LIST:\n\n\n\n
  	\nTent (ask to share with others)\n\n 	\nSleeping bag\n\n 	\nSleeping ma
 t\n\n 	\nHelmet\n\n 	\nHead-torch\n\n 	\nBack-up light\n\n 	Spare batterie
 s\n 	\nShoes to get dirty\n\n 	\nClothes to wear under cave suits (I usual
 ly go for just a t-shirt and leggings\, BUT I have heard rumours that at t
 he very end of this cave there is some NASTY blackish water to like wade t
 hrough\, so maybe like bring a thermal top/underwear as well\, but up to y
 ou)\n\n 	A little tiny backpack to get dirty and carry your water/lunch/sp
 are batteries etc.\n 	Knee/elbow pads (OPTIONAL but we'll be crawling like
  forever so...)\n 	Water bottle (theres drinkable water at the ranger stat
 ion)\n 	Breakfast/lunch/snacks (there are grills available)\n\n\nCA$H for 
 camping fees\, petrol money for your driver\, park entry fees etc\n(In add
 ition\, I'll bring some cave suits and a handline or two)\n\n&nbsp\;\n\n\n
 See you there xx\n\n
CATEGORIES:Caving
END:VEVENT
END:VCALENDAR