BEGIN:VCALENDAR
VERSION:2.0
PRODID:-//wp-events-plugin.com//7.2.3.1//EN
TZID:Australia/Sydney
X-WR-TIMEZONE:Australia/Sydney
BEGIN:VEVENT
UID:1573@unswoc.org
DTSTART:20160219T010000Z
DTEND:20160221T110000Z
DTSTAMP:20160218T062442Z
URL:https://unswoc.org/wordpress/events/jarvis-bay-kayaking/
SUMMARY:Jarvis Bay Kayaking.
DESCRIPTION:Hey all\,\n\nDamon and I will be running a kayaking trip down i
 n Jarvis bay. This will be a much smaller affair than the one that ran ove
 r the Christmas/New Years break\, as there is an extremely limited number 
 of Kayaks. We will be heading down from UNSW early-ish on friday\, in the 
 hope of avoiding traffic\, and having a nice trip down. We'll camp down at
  Jervis bay on the Friday\, and Paddle saturday and sunday\, returning Sun
 day evening.\n\nWe'll be getting back quite late Sunday - so you need to h
 ave the entire weekend completely free!\n\nNaturally you'll need all of th
 e things you'd take for camping - tent\, sleeping bag\, mat to sleep on\, 
 cooking equipment\, food\, toilet paper. You'll also need some vessel to c
 arry a large amount of water.\n\nOther details will be added shortly.\n\nC
 heerio\, Damon and Sam
CATEGORIES:Flat Water Kayaking
END:VEVENT
END:VCALENDAR