BEGIN:VCALENDAR
VERSION:2.0
PRODID:-//wp-events-plugin.com//7.2.3.1//EN
TZID:Australia/Sydney
X-WR-TIMEZONE:Australia/Sydney
BEGIN:VEVENT
UID:2598@unswoc.org
DTSTART;TZID=Australia/Sydney;VALUE=DATE:20200211
DTEND;TZID=Australia/Sydney;VALUE=DATE:20200213
DTSTAMP:20200211T230133Z
URL:https://unswoc.org/wordpress/events/its-raining-intermediate-whitewate
 r-kayaking/
SUMMARY:It's Raining! (Intermediate whitewater kayaking)
DESCRIPTION:The drought has somewhat abaited and there are flood waters to 
 paddle. This trip is only for people who are class III competent. We will 
 be leaving the tramsheds at 5:30am on Tuesday and meeting at the upper Kan
 garoo put in for some laps of the upper Kangaroo on Tuesday. We will camp 
 at Oallen ford and drive to Berrima to do the Wingecarribee on Wednesday. 
 Numbers depend on how many cars with roof racks we have. Let us know
CATEGORIES:Whitewater Kayaking
END:VEVENT
BEGIN:VTIMEZONE
TZID:Australia/Sydney
X-LIC-LOCATION:Australia/Sydney
BEGIN:DAYLIGHT
DTSTART:20191006T030000
TZOFFSETFROM:+1000
TZOFFSETTO:+1100
TZNAME:AEDT
END:DAYLIGHT
END:VTIMEZONE
END:VCALENDAR