BEGIN:VCALENDAR
VERSION:2.0
PRODID:-//wp-events-plugin.com//7.2.3.1//EN
TZID:Australia/Sydney
X-WR-TIMEZONE:Australia/Sydney
BEGIN:VEVENT
UID:3365@unswoc.org
DTSTART;TZID=Australia/Sydney:20240223T180000
DTEND;TZID=Australia/Sydney:20240223T220000
DTSTAMP:20240222T042136Z
URL:https://unswoc.org/wordpress/events/introduction-to-the-club-st-peters
 -climbing-evening/
SUMMARY:Introduction to the Club - St Peter's Climbing Evening
DESCRIPTION:Meet the Club!\nSydney Indoor Climbing Gym - St Peter's\nFriday
  February 23rd\, 6pm\n\n\nHey Everyone!\n\nIf you've just joined the club 
 or are considering joining\, we have the perfect event for you! We want to
  get to know you better so we will be running a climbing event at Sydney I
 ndoor Climbing Gym in St Peter's at 6pm\, Friday February 23rd. This is a 
 great climbing gym with bouldering and rope climbing. Whether you've never
  touched a climbing hold before or you're a pro\, this event is open to ev
 eryone! Sign up for good times and great vibes!\n\n&nbsp\;\nWho Can Come A
 long?\nEveryone! (Yes\, even if you're not a member yet)\n\nThis event is 
 especially for the new members who have just started uni\, joined the club
  this year\, or who have heard about UNSWOC and might be looking to join s
 oon. You'll be paying a reduced entry fee of $5!!! Harnesses will be inclu
 ded. The gym closes at 10pm\, so if you would still like to come but might
  be running a little late\, let us know in the comment below.\n\nTo all ou
 r lovely club members who've been around for longer\, we would love for yo
 u to come along too. As the event is on a Friday\, you'll have the entry d
 iscount of $14 that you can pay directly to the gym on the day so you won'
 t need to apply to this event page\, you can just show up. So please join 
 for a great social event!\n\n&nbsp\;\nSo what will you be doing exactly?\n
 Climbing!! You'll be taught the basics of the sport and how to safely clim
 b and belay\, then you'll be ready to hop on the wall! You'll also interac
 t with other club members both new and old. If you have any questions abou
 t the club\, there will be some exec floating around who would love to hel
 p you out.\n\n&nbsp\;\nSounds great! How do I sign up?\nYou will need to m
 ake an account on the UNSWOC website if you haven't already (or check if y
 ou're signed in if you still can't apply). You do not have to be a member 
 to have an account or sign up to this event.\n\nSo if this sounds like som
 ething you'd be keen to come along to\, let us know in the comment box bel
 ow:\n\n 	Your previous climbing experience\n 	When you joined the club or 
 if you haven't yet\n 	What you're looking forward to about the event\n\nIf
  you are accepted onto the event (first come\, first serve so sign up quic
 k!!)\, you will receive an acceptance email with payment details and an in
 formation form to fill out. If you don't make it on but are still keen to 
 come\, please do! UNSWOC members get a discount on $14 at St Peter's on Mo
 ndays and Fridays\, other costs can be found on the gym's website.\n\n&nbs
 p\;\n\nCan't wait to see you all there! :)\n\n&nbsp\;\n\nIf you have any q
 uestions or concerns\, feel free to reach out to me\, Amelia\, on Facebook
  Messenger (https://www.facebook.com/amelia.vas.520/)
CATEGORIES:Climbing,Indoor Climbing
LOCATION:https://maps.app.goo.gl/FbRaEBcGtWmvFztX6
END:VEVENT
BEGIN:VTIMEZONE
TZID:Australia/Sydney
X-LIC-LOCATION:Australia/Sydney
BEGIN:DAYLIGHT
DTSTART:20231001T030000
TZOFFSETFROM:+1000
TZOFFSETTO:+1100
TZNAME:AEDT
END:DAYLIGHT
END:VTIMEZONE
END:VCALENDAR