BEGIN:VCALENDAR
VERSION:2.0
PRODID:-//wp-events-plugin.com//7.2.3.1//EN
TZID:Australia/Sydney
X-WR-TIMEZONE:Australia/Sydney
BEGIN:VEVENT
UID:2002@unswoc.org
DTSTART:20160420T070000Z
DTEND:20160420T090000Z
DTSTAMP:20160412T025442Z
URL:https://unswoc.org/wordpress/events/introduction-to-backpacking-stoves
 /
SUMMARY:Introduction to Backpacking Stoves
DESCRIPTION:We will discuss available lightweight stove options and you wil
 l have an opportunity to try out some different models. Meet at the gear c
 upboard at Sam Cracknell Pavilion\n\nThe use of lightweight stoves is nece
 ssary for many outdoor activities such as\n\n	Backpacking\n	Cycle touring\
 n	Backcountry skiing\n\nOne of the stoves we will be working with is the M
 SR Whisperlite. See this video to get an idea of how it works.\n\nhttps://
 www.youtube.com/watch?v=oCzSdbffZDs&amp\;nohtml5=False\n\nIf you have a st
 ove that you would like to bring and show off\, please do. The more the me
 rrier.\n\nFinally if you would like to make your own ultra-lightweight alc
 ohol stove see this site for some instructions (the "Low pressure side bur
 ner alcohol stoves are a good place to start).\n\nhttp://zenstoves.net/Lin
 ksGeneral-DIY.htm\n\n&nbsp\;\n\n&nbsp\;\n\n&nbsp\;
CATEGORIES:Training
END:VEVENT
END:VCALENDAR