BEGIN:VCALENDAR
VERSION:2.0
PRODID:-//wp-events-plugin.com//7.2.3.1//EN
TZID:Australia/Sydney
X-WR-TIMEZONE:Australia/Sydney
BEGIN:VEVENT
UID:321@unswoc.org
DTSTART:20131207T230000Z
DTEND:20131208T050000Z
DTSTAMP:20131205T132400Z
URL:https://unswoc.org/wordpress/events/introduction-multi-pitch-climbing/
SUMMARY:Introduction to Multi-pitch Climbing
DESCRIPTION:As discussed on Facebook I'll be taking 5 people out to this ar
 ea on Sunday to teach some multipitch stuff.\n\nhttp://www.thecrag.com/cli
 mbing/australia/blue-mountains/reservoir-dogs\n\nRecommended gear list wou
 ld be:\n\n	We really need bolt plates bring what you have!\n	Own harness &
 amp\; shoes\n	For your chalkback it is good to actually tie it around your
  waist with some prussik cord or tube tabe. Always good to have that bit o
 f extra tat for bailing.\n	Belay device. ATC-Guide or Reverso is preferred
  but any will do.\n	Draws. Bring what you have.\n	Locking carabiners. 3 mi
 nimum\, 4-6 is a good number. Some free non-locking carabiners are good to
 o.\n	Slings. One or two double-length (120cm) slings for anchors are great
 .\n	Prussiks. Minimum 1 short and 1 long\, an extra long prussik or cordel
 ette is great. Alternately a mini ascender isn't a bad idea (traxion\, rop
 eman etc)\n	Water and packed lunch\n\nMeeting at 10AM at Medlow Bath stati
 on!
CATEGORIES:Outdoor Climbing
LOCATION:Medlow Bath\, Belgravia Street\, Medlow Bath\, NSW\, Australia
GEO:-33.671894;150.278442
X-APPLE-STRUCTURED-LOCATION;VALUE=URI;X-ADDRESS=Belgravia Street\, Medlow B
 ath\, NSW\, Australia;X-APPLE-RADIUS=100;X-TITLE=Medlow Bath:geo:-33.67189
 4,150.278442
END:VEVENT
END:VCALENDAR