BEGIN:VCALENDAR
VERSION:2.0
PRODID:-//wp-events-plugin.com//7.2.3.1//EN
TZID:Australia/Sydney
X-WR-TIMEZONE:Australia/Sydney
BEGIN:VEVENT
UID:2065@unswoc.org
DTSTART:20161004T073000Z
DTEND:20161004T103000Z
DTSTAMP:20160925T023708Z
URL:https://unswoc.org/wordpress/events/intro-trip-leading/
SUMMARY:Intro to Trip Leading - Tues 4th Oct
DESCRIPTION:Hey guys :)\n\nWe are running this on-campus training session f
 or people who have been climbing and canyoning for awhile/have become conf
 ident\, and want to start learning to become independent and run trips for
  others. The focus will be on climbing and canyoning trips.\n\nThis traini
 ng session is only the beginning*\, and based on who shows interest\, we'l
 l start looking into more practical training. We are investing time and ef
 fort into training new trip leaders for the club\, so think about whether 
 this is something you might like to do :)\n\nTopics covered range from bas
 ics like creating a trip on the website\, responsibilities of a trip leade
 r (incl. a bit on legal liability) and the list of extras that i trip lead
 er should bring\, to more practical aspects such as basic rigging\, steps 
 to go through when teaching someone to abseil etc.\n\nMessage me if you're
  not sure if you are ready to start trip leading :)\n\n*attending this tra
 ining session will not mean you are ready to lead trips on your own yet.
CATEGORIES:Training
END:VEVENT
END:VCALENDAR