BEGIN:VCALENDAR
VERSION:2.0
PRODID:-//wp-events-plugin.com//7.2.3.1//EN
TZID:Australia/Sydney
X-WR-TIMEZONE:Australia/Sydney
BEGIN:VEVENT
UID:2454@unswoc.org
DTSTART;TZID=Australia/Sydney:20190908T130000
DTEND;TZID=Australia/Sydney:20190910T130000
DTSTAMP:20190811T014115Z
URL:https://unswoc.org/wordpress/events/intro-to-whitewater-kayaking/
SUMMARY:Intro to Whitewater Kayaking
DESCRIPTION:Ahoy there! All that hard work at the pool sessions is paying o
 ff and it's time to test those rolls and go for a paddle :)\nThis trip is 
 only open to people who have consistently rolled at pool sessions.\nThe Pl
 an:\nAidan and I will be down at the snow already with boats and paddling 
 gear. If you are down for the snow weekend already\, easy\, just meet us i
 n Jindabyne Sunday afternoon. Otherwise\, if you are coming from Sydney le
 t us know if you have a car so you can carpool down and we will meet you i
 n Jindabyne Sunday afternoon or at Island Bend Campground Sunday evening d
 epending on when you arrive.\nWe will start paddling early Monday morning 
 on the Thedbo River starting at the Trout hatchery (class I to class II). 
 In the afternoon we might have a crack on the lower section of Afternoon D
 elight on the Thredbo River (class III)\nTuesday we will paddle the Lower 
 Munyang (class III) we can do multiple laps depending on how tired you fee
 l.\nWhat to pack:\nFood\nWater bottle\nTent\nWarm dry clothes\nWarm sleepi
 ng bag\nInsulated sleeping mat\nTowel\nSwimmers\nThermals that can get wet
 \nA drytop/drysuit OR double wetsuit it\nRainjacket\nWool/neoprene socks\n
 Shoes that can get wet\nDry shoes and socks\nPot\, stove\, gas and cutlery
 \nWhatever paddling gear you might own\nNOTE: we might change things up a 
 bit if water levels change. Regardless we will be paddling :)
ATTACH;FMTTYPE=image/jpeg:https://unswoc.org/wordpress/wp-content/uploads/
 2019/08/FB_IMG_1565487531933.jpg
CATEGORIES:Whitewater Kayaking
END:VEVENT
BEGIN:VTIMEZONE
TZID:Australia/Sydney
X-LIC-LOCATION:Australia/Sydney
BEGIN:STANDARD
DTSTART:20190407T020000
TZOFFSETFROM:+1100
TZOFFSETTO:+1000
TZNAME:AEST
END:STANDARD
END:VTIMEZONE
END:VCALENDAR