BEGIN:VCALENDAR
VERSION:2.0
PRODID:-//wp-events-plugin.com//7.2.3.1//EN
TZID:Australia/Sydney
X-WR-TIMEZONE:Australia/Sydney
BEGIN:VEVENT
UID:2682@unswoc.org
DTSTART;TZID=Australia/Sydney:20200812T183000
DTEND;TZID=Australia/Sydney:20200812T203000
DTSTAMP:20200810T030151Z
URL:https://unswoc.org/wordpress/events/intro-to-snow-and-ice-what-to-pack
 /
SUMMARY:Intro to snow and ice - what to pack!
DESCRIPTION:It's snow season in NSW and that means time to go to the snow :
 D In preparation for the upcoming trip to blue lake there will be a introd
 uction to snow and ice workshop to give you an opportunity to gather up an
 y useful gear you might have around the house while providing enough time 
 for you to source addition gear that you might need :)\n\nPlease say in th
 e comments box whether you plan to join on zoom or attend in person.\n\nIf
  you've got any of the following equipment please bring it along\, if not 
 no worries!\n\n 	1 x rope - lightweight\, dry treated single rope.\n 	1 x 
 trad rack (cams/nuts)\n 	4 x alpine quick draws (60cm extendable)\n 	1 x v
 -threader\n 	2 x 120 cm spectra sling\n 	1 x 240 cm spectra sling\n 	3 x p
 rusik cord - 1 for self belay\, 1 for glacier travel (belly button to eyes
 )\, 1 for self rescue foot loop (foot to chest)\n 	1 x snowstake\n 	1 x AT
 C device with guide mode\n 	8 x locking biners\n 	2 x ice screws (ideally 
 19-22cm)\n 	2 x ice tools (1 adze\, 1 hammer)\n 	Crampons\n 	Crampon bag\n
  	Mountaineering boots\n 	Snow shoes\n 	Walking poles (optional)\n 	Gaiter
 s\n 	Climbing helmet\n 	Climbing harness\n 	Snow shovel\n 	Transceiver\n 	
 Probe\n 	Emergency bivy/bothy bag\n 	Compass\n 	4 season tent\, with snow 
 pegs\n 	Sleep bag rate for negative temperatures\n 	Sleeping bag liner\n 	
 Sleeping mat\n 	Stove\n 	Warm socks\n 	Thermals (top and pants)\n 	Waterpr
 oof pants\n 	Waterproof jacket\n 	Fleece\n 	Belay jacket\n 	Liner gloves\n
  	Thick\, waterproof gloves\n 	Sunglasses (min. cat 3) and or snow googles
 \n 	Buff/balaclava\n 	Lip balm\n 	Sunscreen\n 	Hand sanitiser\n 	Head torc
 h\n 	Poo bag\n 	Personal toiletries/first aid kit\n 	Suitable pack to carr
 y all of the above\n\nLocation TBC but most likely Eastlakes.\n\nAny quest
 ions\, shoot me a message on facebook!\n\n
CATEGORIES:Snow,Training
END:VEVENT
BEGIN:VTIMEZONE
TZID:Australia/Sydney
X-LIC-LOCATION:Australia/Sydney
BEGIN:STANDARD
DTSTART:20200405T020000
TZOFFSETFROM:+1100
TZOFFSETTO:+1000
TZNAME:AEST
END:STANDARD
END:VTIMEZONE
END:VCALENDAR