BEGIN:VCALENDAR
VERSION:2.0
PRODID:-//wp-events-plugin.com//7.2.3.1//EN
TZID:Australia/Sydney
X-WR-TIMEZONE:Australia/Sydney
BEGIN:VEVENT
UID:1453@unswoc.org
DTSTART;VALUE=DATE:20150829
DTEND;VALUE=DATE:20150830
DTSTAMP:20150826T034810Z
URL:https://unswoc.org/wordpress/events/intro-to-multipitch-climbing/
SUMMARY:Intro to Multipitch Climbing
DESCRIPTION:This saturday I am going to run an Introduction to multipitch c
 limbing. This trip is people who have not done any multipitch climbing\, b
 ut can lead climb and lead belay. The climb I have selected for this trip 
 is a grade 14\, so you don't need to be a particularly strong climber. I a
 m limiting this trip to 5 people due to practical reasons. We will catch t
 he train up to the mountains on Saturday morning and then walk to climb (a
 bout 4km).\n\nThe topics I plan to cover are:\n\n	Safety.\n	Belay building
 .\n	Communication.\n	Rope Management.\n	Route Selection and Preparation.\n
 \nFor your personal gear you will need (Can be obtained from the cupboard)
 :\n\n	At least 5 quick draws each.\n	A harness with gear loops.\n	A long
  sling each (&gt\;1m).\n	An ATC Guide each.\n	5 Bolt plates each.\n	4 Lock
 ing Carabiners each.\n	A Helmet!\n	A whistle.\n	A head Torch.\n	Climbing S
 hoes.\n	Approach shoes.\n	Lunch and Water.\n	Rain Jacket (even if the weat
 her looks good)\n	A rope between two people ( will try to organise this by
  email today).\n	Printed trip notes for the climb ( Part of the learning w
 ill be finding the route on your own\; the notes can be found here.)\n	A 
 small backpack (once you leave the ground\, your not going back down for 
 your stuff!).\n\nPlease contact me on dpvandermaat@gmail.com once you secu
 red a place on the trip and tell me what gear you own\, and what you need
  to get from the cupboard.\n\n\n\n&nbsp\;
ATTACH;FMTTYPE=image/jpeg:https://unswoc.org/wordpress/wp-content/uploads/
 2015/08/450px-Belaying.jpg
CATEGORIES:Outdoor Climbing
LOCATION:\, \, 
X-APPLE-STRUCTURED-LOCATION;VALUE=URI;X-ADDRESS=\, ;X-APPLE-RADIUS=100;X-TI
 TLE=:geo:0,0
END:VEVENT
END:VCALENDAR