BEGIN:VCALENDAR
VERSION:2.0
PRODID:-//wp-events-plugin.com//7.2.3.1//EN
TZID:Australia/Sydney
X-WR-TIMEZONE:Australia/Sydney
BEGIN:VEVENT
UID:3243@unswoc.org
DTSTART;TZID=Australia/Sydney;VALUE=DATE:20230401
DTEND;TZID=Australia/Sydney;VALUE=DATE:20230402
DTSTAMP:20230328T111540Z
URL:https://unswoc.org/wordpress/events/intro-to-multipitch-climbing-inter
 mediate/
SUMMARY:*TRIP FULL* Intro to Multipitch Climbing (Intermediate)
DESCRIPTION:Hey everyone\,\n\nThis Saturday Gabe and I (Jack) will be runni
 ng an introduction to multipitch climbing at reservoir dogs\, at Medlow Ba
 th in the Blue Mountains. This is an intermediate level trip\, and partici
 pants should be comfortable climbing outdoors at grade 18 or higher\, and 
 should have experience lead belaying. Also note that this is a rap-in crag
 \, so experience using a prusik is advantageous.\n\nIf the weather is good
 \, we will plan to meet at the Medlow bath car park at 10am\, walk in toge
 ther and climb for the whole day. For people coming from Sydney\, we will 
 organise carpooling or pickups from public transport.\n\n\n\nPlease includ
 e in the comments: your climbing experience and ability\, whether you are 
 able to drive\, and your favourite breed of dog (since we are going to dog
 s :)).\n\nWe will also run a multipitching workshop for participants at th
 e ledge on Thursday\, so please include whether you would be able to make 
 it to this.\n\nAny gear that you require must be collected independently f
 rom the gear cupboard at UNSW on the regular gear night.\n\n 	Gear require
 d: harness\, helmet\, climbing shoes\, ATC guide (suitable for top belay) 
 + carabiners\, prusik\n 	What to bring: sunscreen\, 2L water (minimum!)\, 
 food for the day\, sporty clothes\, a warm jacket\, rain jacket\, a day ba
 ckpack to fit all your stuff inside\, smiles\, etc.\n 	Meeting point: Med
 low Bath carpark\, 10am.\n\nFeel free to reach out to Gabe or myself on fa
 cebook with any questions.\n\nGet keeeen!
ATTACH;FMTTYPE=image/jpeg:https://unswoc.org/wordpress/wp-content/uploads/
 2023/03/Bek-on-Born-to-be-Mild.jpg
CATEGORIES:Climbing,Outdoor Climbing
END:VEVENT
BEGIN:VTIMEZONE
TZID:Australia/Sydney
X-LIC-LOCATION:Australia/Sydney
BEGIN:DAYLIGHT
DTSTART:20221002T030000
TZOFFSETFROM:+1000
TZOFFSETTO:+1100
TZNAME:AEDT
END:DAYLIGHT
END:VTIMEZONE
END:VCALENDAR