BEGIN:VCALENDAR
VERSION:2.0
PRODID:-//wp-events-plugin.com//7.2.3.1//EN
TZID:Australia/Sydney
X-WR-TIMEZONE:Australia/Sydney
BEGIN:VEVENT
UID:2684@unswoc.org
DTSTART;TZID=Australia/Sydney:20200819T183000
DTEND;TZID=Australia/Sydney:20200819T203000
DTSTAMP:20200817T002951Z
URL:https://unswoc.org/wordpress/events/intro-to-mountaineering-weather-an
 d-avalanche-assessment/
SUMMARY:Intro to mountaineering - weather and avalanche assessment!
DESCRIPTION:It's snow season in NSW and that means time to go to the snow! 
 In order to spend time in the snow we need to have an understanding of how
  to anticipate\, read and react to the weather and avalanche conditions. C
 ome along to this workshop if you are interested to find out more about th
 e considerations of weather and avalanche when mountaineering.\n\nHere's s
 ome excellent pre-workshop reading:\n\nhttps://beanie-grant.unswoc.org/202
 0/03/04/course-day-2-avalaaaaaanche/\n\nLocation tbc but most likely Eastl
 akes.\n\nAny questions or requests\, send me (Jenny Stansby) a facebook me
 ssage!\n\n&nbsp\;
CATEGORIES:Snow,Training
END:VEVENT
BEGIN:VTIMEZONE
TZID:Australia/Sydney
X-LIC-LOCATION:Australia/Sydney
BEGIN:STANDARD
DTSTART:20200405T020000
TZOFFSETFROM:+1100
TZOFFSETTO:+1000
TZNAME:AEST
END:STANDARD
END:VTIMEZONE
END:VCALENDAR