BEGIN:VCALENDAR
VERSION:2.0
PRODID:-//wp-events-plugin.com//7.2.3.1//EN
TZID:Australia/Sydney
X-WR-TIMEZONE:Australia/Sydney
BEGIN:VEVENT
UID:2674@unswoc.org
DTSTART;TZID=Australia/Sydney:20200723T143000
DTEND;TZID=Australia/Sydney:20200723T170000
DTSTAMP:20200720T121011Z
URL:https://unswoc.org/wordpress/events/intro-to-mountain-biking-at-paine-
 reserve/
SUMMARY:Intro to Mountain Biking at Paine Reserve
DESCRIPTION:Hi guys\,\n\nAs there has been a recent surge in interest towa
 rds mountain biking\, we have decided not only to run more trips\, but try
  to introduce beginners more gradually than on a full blown trip.\n\nPaine
  Reserve hosts a really nice small section of rock where you can challenge
  your mountain biking skills from absolute beginner to advanced. It is loc
 ated only a 5 minute bike ride from University. Please make sure your bike
  is in working order! If anything happens to your bike we may or may not h
 ave tools to fix it.\n\n\n\nTo attend this trip you must source your own:\
 n\n 	Mountain bike\n 	Bike helmet (read: not climbing helmet)\n\nPlease le
 t me know your mountain biking experience in the comments!
END:VEVENT
BEGIN:VTIMEZONE
TZID:Australia/Sydney
X-LIC-LOCATION:Australia/Sydney
BEGIN:STANDARD
DTSTART:20200405T020000
TZOFFSETFROM:+1100
TZOFFSETTO:+1000
TZNAME:AEST
END:STANDARD
END:VTIMEZONE
END:VCALENDAR