BEGIN:VCALENDAR
VERSION:2.0
PRODID:-//wp-events-plugin.com//7.2.3.1//EN
TZID:Australia/Sydney
X-WR-TIMEZONE:Australia/Sydney
BEGIN:VEVENT
UID:1963@unswoc.org
DTSTART:20160311T200000Z
DTEND:20160312T080000Z
DTSTAMP:20160311T073110Z
URL:https://unswoc.org/wordpress/events/intro-to-hiking-the-lost-city/
SUMMARY:Intro to HIKING - Spit to Manly
DESCRIPTION:Hello Adventurers!\n\nSo as an alternative to the Lithgow speci
 al Tilly and I are now running (well walking) the manly to spit\, wooo! Me
 et at the spit bridge at 11am at the bus stop near the boat club. (there a
 re lots of buses here from Wynard) just look for some crazy outdoors peopl
 e in UNSWOC shirts. We will enjoy the lovely waterside views the whole way
  to Manly where we can celebrate our hard work with some well deserved ice
 cream! From Manly we can transform into pirates and accost the ferry back 
 to the city. If you are running late shoot me a message on 0450 228 081.\n
 \nYOU WILL NEED:\n\n	Sunscreen – Just because summer is over doesn't me
 an the Australian sun is any less harsh. Make sure you bring lots of suns
 creen and apply every few hours!\n	Water – With the hot weather water is
  extremely important. Bring AT LEAST 2L of water.\n	Lunch – You must pro
 vide your OWN lunch.\n	Snacks – We’ll be doing a lot of exercise\, so 
 make sure you bring lots of snacks to keep your energy levels up! Bring th
 ings like nuts\, fruit\, dried fruit\, lollies\, biscuits\, chocolate\, mu
 esli bars\, etc.\n	Appropriate clothes – Appropriate hiking shoes\, Hat\
 , light clothes (you will get hot!)\, a light raincoat or jumper if the w
 eather forecast predicts a cold front. SWIMMERS!\n	First Aid Kit – If y
 ou have one. Plenty of tape for blisters and Band-Aids.\n
ATTACH;FMTTYPE=image/jpeg:https://unswoc.org/wordpress/wp-content/uploads/
 2016/03/12768793305_55e53f7de5_n.jpg
END:VEVENT
END:VCALENDAR