BEGIN:VCALENDAR
VERSION:2.0
PRODID:-//wp-events-plugin.com//7.2.3.1//EN
TZID:Australia/Sydney
X-WR-TIMEZONE:Australia/Sydney
BEGIN:VEVENT
UID:2982@unswoc.org
DTSTART;TZID=Australia/Sydney:20220301T190000
DTEND;TZID=Australia/Sydney:20220301T220000
DTSTAMP:20220212T093941Z
URL:https://unswoc.org/wordpress/events/intro-to-caving-skills/
SUMMARY:Intro to Caving Skills
DESCRIPTION:Hello all!\nAlie and I are happy to announce the long-awaited I
 NTRODUCTION TO CAVING SKILLS NIGHT.\nThis is the night to attend if you ev
 en think you might be interested in caving (which basically has all the co
 olest parts of all the other rock sports and none of the downsides!)\, or 
 if you’ve already been but want to learn or refresh some techniques. Cav
 ing involves exploring caves (!!) which are cool holes in the ground consi
 sting of 3D labyrinths of tunnels and caverns and sick decorations like st
 alactites and stalagmites and shawls and flowstones. It often involves mud
  and crawling and climbing around and abseiling and jumarring.\nThis begin
 ner-intermediate friendly skills session will cover a few things about wha
 t to expect caving\, some of the ethics and things to look out for\, and t
 hen will dive into a practical on the technical rope work aspects. This wi
 ll include abseiling and cave ladders\, then get into jumarring (rope asce
 nding). You will have the opportunity to test out all different types of c
 ave ascending and descending in a safe and educational environment before 
 being thrown into the bottom of a cave!\nThe Intro to Caving will be held 
 at 7pm on Tuesday the 1st of March. It will be at the Ledge\, so we can go
  for pizzas and beer afterwards at the Flodge.\n&nbsp\;\n\nThings to bring
 :\n\n 	your harness (if you don't have one\, you can rent one from the Led
 ge)\n 	any personal gear you'd like to practice with (descenders like ATCs
 \, gri gris\, figure 8 etc.\; ascenders like prussicks or whatever else yo
 u own\; safety slings\; carabiners)\n 	comfy clothes\n 	a water bottle\n 	
 a mask\n\n&nbsp\;\nHope to see you there!\nIzzy and Alie
ATTACH;FMTTYPE=image/jpeg:https://unswoc.org/wordpress/wp-content/uploads/
 2022/02/Screen-Shot-2022-02-10-at-9.38.10-pm.png
CATEGORIES:Caving,Training
END:VEVENT
BEGIN:VTIMEZONE
TZID:Australia/Sydney
X-LIC-LOCATION:Australia/Sydney
BEGIN:DAYLIGHT
DTSTART:20211003T030000
TZOFFSETFROM:+1000
TZOFFSETTO:+1100
TZNAME:AEDT
END:DAYLIGHT
END:VTIMEZONE
END:VCALENDAR