BEGIN:VCALENDAR
VERSION:2.0
PRODID:-//wp-events-plugin.com//7.2.3.1//EN
TZID:Australia/Sydney
X-WR-TIMEZONE:Australia/Sydney
BEGIN:VEVENT
UID:2012@unswoc.org
DTSTART:20160504T083000Z
DTEND:20160504T100000Z
DTSTAMP:20160502T050829Z
URL:https://unswoc.org/wordpress/events/intro-to-alpine-climbing/
SUMMARY:Intro to Alpine Climbing
DESCRIPTION:Intro to Alpine Climbing session is on this Wednesday night!\n\
 nRene Provis and I will talk you all through how to get into this beautif
 ul sport\, and show you what equipment\, clothing and skills you'll need t
 o start mountaineering.\n\nLocation: UNSW Goldstein Room G16 (normal train
 ing room)\n\nSign up here! See you Wednesday May 4th - 7.30pm at UNSW.\n\
 n&nbsp\;
ATTACH;FMTTYPE=image/jpeg:https://unswoc.org/wordpress/wp-content/uploads/
 2016/05/13130916_10153586638566824_1570299803105624256_o.jpg
CATEGORIES:Training
END:VEVENT
END:VCALENDAR