BEGIN:VCALENDAR
VERSION:2.0
PRODID:-//wp-events-plugin.com//7.2.3.1//EN
TZID:Australia/Sydney
X-WR-TIMEZONE:Australia/Sydney
BEGIN:VEVENT
UID:2003@unswoc.org
DTSTART:20160413T063000Z
DTEND:20160413T083000Z
DTSTAMP:20160412T101803Z
URL:https://unswoc.org/wordpress/events/intro-prusiking/
SUMMARY:Intro to Prusiking
DESCRIPTION:Hey everyone\,\n\nNat and I will be running an introduction int
 o prusiking at the gear cupboard this wednesday. Prusiking is an essential
  climbing skill with many applications\, namely being able to ascend a rop
 e (but the knots can also be used for may other things). This session is s
 uitable for those with no experience and no gear is required. We will be m
 eeting at the gear cupboard at 5:30 and then probably moving to a room whi
 ch will have its location posted on the fb.\n\n&nbsp\;
CATEGORIES:Training
END:VEVENT
END:VCALENDAR