BEGIN:VCALENDAR
VERSION:2.0
PRODID:-//wp-events-plugin.com//7.2.3.1//EN
TZID:Australia/Sydney
X-WR-TIMEZONE:Australia/Sydney
BEGIN:VEVENT
UID:2266@unswoc.org
DTSTART;VALUE=DATE:20180825
DTEND;VALUE=DATE:20180827
DTSTAMP:20180824T091926Z
URL:https://unswoc.org/wordpress/events/intro-caving-weekend-bungonia/
SUMMARY:Intro Caving Weekend Bungonia
DESCRIPTION:Introductory caving weekend at Bungonia\, plan is to do B4-5\, 
 Grill Cave and possibly if time Hogans Hole on the Saturday\, and then Blo
 wfly Cave + Extension on Sunday.\n\nNo experience necessary! We will be st
 arting with horizontal caves (no abseiling/ascending) and moving on to mor
 e vertical caves.\n\nWill be run alongside Izzys trip same weekend.\n\nGet
  keen its sure to be a great weekend!!\n\n
CATEGORIES:Caving
END:VEVENT
END:VCALENDAR