BEGIN:VCALENDAR
VERSION:2.0
PRODID:-//wp-events-plugin.com//7.2.3.1//EN
TZID:Australia/Sydney
X-WR-TIMEZONE:Australia/Sydney
BEGIN:VEVENT
UID:2034@unswoc.org
DTSTART:20160629T073000Z
DTEND:20160629T093000Z
DTSTAMP:20160628T032115Z
URL:https://unswoc.org/wordpress/events/intro-backcountry-another/
SUMMARY:Intro into the backcountry (Another!)
DESCRIPTION:\nHi everyone\, Alexey is nice enough to run anothe intro to ba
 ckcountry for those who missed the first and may be keen to learn more and
  venture into all the snow out there.\n\n\n \n\n\nMore info:\n\n\n \n\n\
 nHi all the snow is falling\,\n\n\nthe season is starting!!\n\n\n \n\n\nT
 ake some time off from exam study &amp\; come see what backcountry skiing 
 / boarding is all about!\n\n\n \n\n\n6:30pm\n\n\nThis event to is to show
  u some cool video's &amp\; pics while also showing u the different types 
 of backcountry sports out there &amp\; the gear you need to know about.\n\
 n\nWhat to buy\, what to not buy. \n\n\nWhen to spend your money &amp\; wh
 en to not.\n\n\nTo rent or not to rent\n\n\n \n\n\nThe event will focus o
 n:\n\n\nBackcountry Gear - Bad gear means a bad time!\n\n\nAT (Apline Tour
 ing) - Good crossover with Downhill skiers\n\n\nSplit boarding - Good cros
 sover with Snow Boarder \n\n\nTelemarking - The original backcountry skiin
 g\n\n\n \n\n\nCome join us\,\n\n\nWe will try to get a some good skiers f
 rom the club to join us so u can chat to them and answer ur questions.\n\n
 \n \n\n\nWe will also be announcing a weekend event sometime over the sea
 son\, on the night!\n
END:VEVENT
END:VCALENDAR