BEGIN:VCALENDAR
VERSION:2.0
PRODID:-//wp-events-plugin.com//7.2.3.1//EN
TZID:Australia/Sydney
X-WR-TIMEZONE:Australia/Sydney
BEGIN:VEVENT
UID:3592@unswoc.org
DTSTART;TZID=Australia/Sydney;VALUE=DATE:20250607
DTEND;TZID=Australia/Sydney;VALUE=DATE:20250610
DTSTAMP:20250604T073601Z
URL:https://unswoc.org/wordpress/events/intermediate-whitewater-trip/
SUMMARY:Intermediate Whitewater Trip
DESCRIPTION:G'day Legends\,\n\nThis trip is only for people with some white
 water kayaking experience. If we haven't paddled together\, please message
  me on facebook\, or send an email.\n\nThis long weekend we are having a f
 ollow up trip to continue learning how to whitewater kayak. In April we le
 arnt the basics and had a few chilly swims\, now we are going to practice 
 those basics\, and hopefully have less (or no) chilly swims. What do you p
 refer\, chilly bins (chilly drinks) or chilly swims (filled with chilly wh
 ims...lol idk)? Below is some information about the trip but we'll discuss
  more in a groupchat on whatsapp.\n\nLocation and River:\nBarrington River
 \, Barrington\n\nThe Plan:\n\nThursday: go to tramshed during/after gear h
 ours to collect boats and gear for everyone. Please attend so I can choose
  you a boat and gear (exact time TBC with gear officers)\nSaturday: drive 
 up in the AM and get a cracking start on the river. Paddle Rawdon Vale to 
 Bindera. Eat dinner at pub\nSunday: Paddle Bindera to the Cove (or rocky c
 rossing)\nMonday: Choose which section we want to paddle... and paddle tha
 t\nYou are free to miss a day if you have other commitments... I'll only j
 udge you silently (you know who you are)\n\nWhat you need to bring\n\n 	Ca
 mping gear (tent\, sleeping bag\, mat etc.)\n 	Food for all the days\n 	We
 tsuit or dry top or dry suit (it will be cold in the water) This is compul
 sory. You won't be paddling without sufficient warmth\n 	Sturdy shoes with
  good grip - I like volleys because they are low volume\, other people wea
 r canyoning shoes or sneakers\n 	Neoprene or woolen socks\n 	Thermals - fo
 r extra warmth under a wetsuit or after a paddle\n 	Dry bag/s (20L in any 
 combination is probably good)\n 	Warm clothes for after the paddle (we oft
 en stand around waiting for shuttle)\n\n 	fleece\, puffer\, etc\n\n\n\nWha
 t will be provided by the club\n\n 	Boats\n 	paddles\n 	helmets\n 	PFDs\n\
 nPlease Put your phone number in your signup comment so I can add you to a
  whatsapp group for this trip.\n\nSee you on the river.\n\nAda
ATTACH;FMTTYPE=image/jpeg:https://unswoc.org/wordpress/wp-content/uploads/
 2025/06/on_the_river-scaled.jpg
CATEGORIES:Whitewater Kayaking
LOCATION:https://maps.app.goo.gl/dRZ6ryZYn5hn3Vv88
END:VEVENT
BEGIN:VTIMEZONE
TZID:Australia/Sydney
X-LIC-LOCATION:Australia/Sydney
BEGIN:STANDARD
DTSTART:20250406T020000
TZOFFSETFROM:+1100
TZOFFSETTO:+1000
TZNAME:AEST
END:STANDARD
END:VTIMEZONE
END:VCALENDAR