BEGIN:VCALENDAR
VERSION:2.0
PRODID:-//wp-events-plugin.com//7.2.3.1//EN
TZID:Australia/Sydney
X-WR-TIMEZONE:Australia/Sydney
BEGIN:VEVENT
UID:1961@unswoc.org
DTSTART:20160318T210000Z
DTEND:20160319T060000Z
DTSTAMP:20160316T034438Z
URL:https://unswoc.org/wordpress/events/intermediate-trip-serendipity-cany
 on/
SUMMARY:Beginners' Trip: Serendipity Canyon
DESCRIPTION:This is a Beginners' canyoning trip\, as part of Boree Log - th
 at means you'll need to be signed up to Boree Log to join. This trip is l
 imited to 4 people - you will need to have abseiled before and have above-
 average fitness.\n\nSerendipity is a beautiful canyon within walking dista
 nce of our campsite at Cathedral Reserve. The day will start with a 30min 
 walk-in\, then about 5 or 6 abseils up to 15m and a few short swims. Once 
 we reach the Wollangambe river at the end of the canyon\, we will have lun
 ch beside a great rock-jump spot. The walk out takes about 1.5hrs and is i
 nitially quite steep. We will arrive back at camp with plenty of time to r
 elax before the party gets started.\n\nTo read more about the canyon visi
 t: http://ozultimate.com/canyoning/track_notes/why_dont_we_do_it_in_the_r
 oad.htm\n\nYou will need:\n\n	wetsuit\n	harness\n	helmet\n	abseil device (
 e.g. figure 8 / ATC)\n	2 locking carabiners\n	safety sling\n	dry-bag\n	rai
 ncoat\n	shoes with good grip when wet (e.g. Dunlop Volleys)\n	comfortable 
 hiking clothes\n	head torch\n	thermals (optional)\n	drink bottle (at least
  1L)\n	lunch and snacks (for the full day)\n\nI will organise all the grou
 p gear and if there's something you don't have we will try to borrow it f
 rom the club.\n\nDISCLAIMER: This trip will be run as a fully-guided expe
 rience (akin to a paid day out with a canyoning company) as it will form 
 part of a guiding course assessment. You will be asked to complete a medi
 cal form and participant agreement in advance (to be returned by email).\n
 \nIf you have any questions\, feel free to email me at katielillyman2@gmai
 l.com
ATTACH;FMTTYPE=image/jpeg:https://unswoc.org/wordpress/wp-content/uploads/
 2016/02/serendipity.jpg
CATEGORIES:Canyoning
END:VEVENT
END:VCALENDAR