BEGIN:VCALENDAR
VERSION:2.0
PRODID:-//wp-events-plugin.com//7.2.3.1//EN
TZID:Australia/Sydney
X-WR-TIMEZONE:Australia/Sydney
BEGIN:VEVENT
UID:2032@unswoc.org
DTSTART;VALUE=DATE:20160625
DTEND;VALUE=DATE:20160626
DTSTAMP:20160624T030008Z
URL:https://unswoc.org/wordpress/events/intermediate-trad-climbing-zig-zag
 /
SUMMARY:Intermediate Trad Climbing at Zig Zag
DESCRIPTION:Eamonn and I are defying the snow and frost and will be heading
  to Zig Zag on Saturday to slay some splitters. Just for something new \;)
  We plan to be there around 10am\, pending Eamonn's hangover\, and will b
 e jamming like mad dogs all day.\n\nYou must be able to lead trad to come 
 - or be able to find a competent leader who you can follow. Depending on t
 he number of people who want to come\, you might also need a rack\, rope e
 tc\n\nWHOOOOO\, TRADVENTURES!\n\n&nbsp\;\n\nSee you there!\n\nEwa &amp\; E
 amonn
CATEGORIES:Outdoor Climbing
END:VEVENT
END:VCALENDAR