BEGIN:VCALENDAR
VERSION:2.0
PRODID:-//wp-events-plugin.com//7.2.3.1//EN
TZID:Australia/Sydney
X-WR-TIMEZONE:Australia/Sydney
BEGIN:VEVENT
UID:3465@unswoc.org
DTSTART;TZID=Australia/Sydney;VALUE=DATE:20240803
DTEND;TZID=Australia/Sydney;VALUE=DATE:20240804
DTSTAMP:20240730T023327Z
URL:https://unswoc.org/wordpress/events/intermediate-ropes-skills-practice
 -sesh/
SUMMARY:intermediate ropes skills practice sesh
DESCRIPTION:Just an excuse to get together and practice some of the less us
 ed skills including but certainly not limited to....\n\n 	rope solo set up
 \n 	ascending and switching\n 	passing the knot\n 	anchor setups\n 	haulin
 g\n\nWhere: Berowra (we can climb a little after if people are keen)\n\nWh
 en: 4th July\n\nWhat to bring: Your usual gear set ups\, we will have some
  extra ascenders and static to play with.\n\nNote: This is more aimed at p
 racticing and teaching each other rather than a taught course.
LOCATION:https://www.google.com.au/maps/place/Botanic+Gardens+of+Sydney/@-3
 3.8666083,151.2138716,16z/data=!4m6!3m5!1s0x6b12ac11c4c3a8a9:0x73bb8018ae9
 19e3d!8m2!3d-33.8666087!4d151.2180418!16s%2Fg%2F11b6gjj53y?entry=ttu
END:VEVENT
BEGIN:VTIMEZONE
TZID:Australia/Sydney
X-LIC-LOCATION:Australia/Sydney
BEGIN:STANDARD
DTSTART:20240407T020000
TZOFFSETFROM:+1100
TZOFFSETTO:+1000
TZNAME:AEST
END:STANDARD
END:VTIMEZONE
END:VCALENDAR