BEGIN:VCALENDAR
VERSION:2.0
PRODID:-//wp-events-plugin.com//7.2.3.1//EN
TZID:Australia/Sydney
X-WR-TIMEZONE:Australia/Sydney
BEGIN:VEVENT
UID:2061@unswoc.org
DTSTART;VALUE=DATE:20160924
DTEND;VALUE=DATE:20160926
DTSTAMP:20160919T023741Z
URL:https://unswoc.org/wordpress/events/intermediate-overnight-hike-mount-
 solitary/
SUMMARY:Intermediate Overnight Hike to Mount Solitary
DESCRIPTION:Do you like waking up to sunrises on mountain tops? Do you like
  large blisters on your feet and bruises on your hips from carrying heavy
  packs? You can enjoy the best of both these experiences next weekend in t
 he Blue Mountains. We will walk from Katoomba to Wentworth Falls via the R
 uined Castle\, and camp on Mount Solitary on saturday night. Wildwalks: K
 atoomba to Wentworth Falls via the Jamison Valley\n\nExpect an early satur
 day morning departure and late sunday return. If you have a car and would 
 like to drive - let us know! Otherwise\, it is easy to get the train (ther
 e are stations at both Katoomba and Wentworth Falls) and we will organise 
 a time for us all to go.\n\nThings you need:\n\n	Hiking pack\n	Tent\n	Slee
 ping bag (it could get down to ~0 degrees at night so make sure it is qu
 ite warm!)\n	Sleeping mat\n	Headtorch\n	10L water 5L water\n	Food for 2 d
 ays\n	Warm clothes\n	Rain jacket\n	one bar of minimum 70% cocoa dark choco
 late (optional)\n\nYou can borrow the first 4 items on the list from gear 
 cupboard on wednesday night (bring a $10 deposit).\n\nThis hike is moderat
 ely challenging\, and will require a medium amount of walking endurance as
  well as rock scrambling ability. Please message one of us (Hanna Jayne or
  Mac Labine-Romain) on facebook to let us know your previous hiking experi
 ence if you'd like to join us! (:\n\n&nbsp\;
CATEGORIES:Bushwalking
END:VEVENT
END:VCALENDAR