BEGIN:VCALENDAR
VERSION:2.0
PRODID:-//wp-events-plugin.com//7.2.3.1//EN
TZID:Australia/Sydney
X-WR-TIMEZONE:Australia/Sydney
BEGIN:VEVENT
UID:3322@unswoc.org
DTSTART;TZID=Australia/Sydney:20231007T000000
DTEND;TZID=Australia/Sydney:20231008T000000
DTSTAMP:20231003T230335Z
URL:https://unswoc.org/wordpress/events/intermediate-overnight-hike-mount-
 solitary-2/
SUMMARY:[FULL] Intermediate overnight hike - Mount Solitary
DESCRIPTION:Come join us (Katie\, Jayden and Lloyd) for an overnight hike u
 p on Mount Solitary next weekend!\n\n\n\nPhoto cred: David Noble\n\nWe’l
 l be leaving from the Blueys Saturday morning and coming out Sunday arvo. 
 As Jayden now lives in the Blueys and I am in the Northern Beaches we’ll
  need help with driving people up and back.\n\nThis is the hike we’ll be
  doing\, we’ll be doing from Scenic Railway to Mt Solitary and return fr
 om there. (We’ll be making camp on the top of Mount Solitary at Singa-J
 ingawell campsite\, so it’ll potentially be windy and cold)!\n\nIt’s n
 ot a massively long hike (about 27km total) but Good fitness and overnig
 ht hiking experience are required as we will be covering pretty rugged te
 rrain and there is no visible track in places. This means if you have any
  recent (past few months) injuries or niggles please let us know.\n\nIn th
 e comments please let me know what hikes you’ve done\, why you’re kee
 n for this hike\, and what your favourite trail snack is. Also let us know
  if you have a car and where you are based as we’ll need some extras.\n\
 nYou’ll need:\n\n 	Hiking pack\n 	Tent (or someone to share with)\n 	Sle
 eping bag &amp\; mat\n 	Food for two days – don’t forget lots of hikin
 g snacks to share with your grateful trip leaders\n 	WATER (bring at least
  4L\, as we’re in drought so no guarantee of anywhere to fill up)\n 	War
 m clothes (thermals are essential\, it’s might be sub-zero overnight)\n 
 	Comfortable shoes (these should be hiking boots or trail runners only!\n 
 	Stove! There have been lots of recent fire warnings so don’t expect a c
 amp fire to cook your food\n 	Headtorch\n 	Toiletries etc. - this includes
  TP and the dreaded pooper scooper (for digging holes)\n 	Sunblock\n\nIf y
 ou’re missing any gear please comment on it as we may have to send you t
 o the gear shed for it.\n\n&nbsp\;\n\nThanks to Stephen Roche for the temp
 late.\n\n&nbsp\;\n\nP.S. Seriously\, answer the questions in the comments.
 \n\n&nbsp\;
ATTACH;FMTTYPE=image/jpeg:https://unswoc.org/wordpress/wp-content/uploads/
 2023/09/CHMS-12.jpg
CATEGORIES:Bushwalking,Hectic Hiking
LOCATION:https://www.google.com/maps/place/Echo+Point+Lookout+(Three+Sister
 s)/@-33.732721,150.2934806,15z/data=!3m1!4b1!4m6!3m5!1s0x6b126eae8ee4812b:
 0x375e198ff0b67f60!8m2!3d-33.7327402!4d150.3119347!16s%2Fg%2F11f2x_w52x?en
 try=ttu
END:VEVENT
BEGIN:VTIMEZONE
TZID:Australia/Sydney
X-LIC-LOCATION:Australia/Sydney
BEGIN:DAYLIGHT
DTSTART:20231001T030000
TZOFFSETFROM:+1000
TZOFFSETTO:+1100
TZNAME:AEDT
END:DAYLIGHT
END:VTIMEZONE
END:VCALENDAR