BEGIN:VCALENDAR
VERSION:2.0
PRODID:-//wp-events-plugin.com//7.2.3.1//EN
TZID:Australia/Sydney
X-WR-TIMEZONE:Australia/Sydney
BEGIN:VEVENT
UID:3460@unswoc.org
DTSTART;TZID=Australia/Sydney:20240720T110000
DTEND;TZID=Australia/Sydney:20240720T190000
DTSTAMP:20240720T004608Z
URL:https://unswoc.org/wordpress/events/intermediate-mountain-biking-trip-
 awaba-2/
SUMMARY:Intermediate Mountain Biking Trip - Awaba
DESCRIPTION:Hi all\,\n\nAfter a brief intermission Zee and I (Bennett) are 
 back with another club mountain biking trip. This time we’ll be heading 
 to Awaba on the central coast (approx 2.5 hr drive) next Saturday the 20th
 .\n\n\n\nAwaba has a great network of cross country and flow trails well s
 uited to intermediate riders with some prior mountain biking experience. T
 rails will mostly be blue difficulty.\n\n\n\nIf you’re keen to come alon
 g then read on for more detail\, including important info to have in your 
 signup request.\n\nWhere:\n\n 	Awaba mountain bike park\, central coast\n 
 	Note\, we will need people with cars/bike racks to get us there. So be su
 re to include in your signup comment if you have a way to get there.\n\n&n
 bsp\;\n\nWhen:\n\n 	Next Saturday the 20th (provided the weather doesn’t
  suddenly worsen)\n\nWho:\n\n 	Anyone with some prior experience riding si
 ngle track mountain bike trails will have a great time. The trails are fai
 rly rocky in places but all bigger features have optional lines around the
 m. Since the loops are a little bit on the longer side\, and the trails ar
 e consistently blue in difficulty this trip probably isn’t suited to com
 plete beginners (we will have another beginner trip soon). If you have any
  questions about prior riding experience and how these trails might compar
 e feel free to send Zee or myself a message on Facebook.\n\nWhat to bring:
 \n\n 	A mountain bike. Unfortunately the club does not have bikes for use.
  If you don’t have your own you can always ask a friend very nicely to b
 orrow there’s. IMPORTANT: make sure your bike works well BEFORE the trip
  rolls around. We will not have the time or resources to fix bikes on the 
 day.\n 	A bike helmet - sorry no rock climbing helmets\n 	Water and snacks
  for the day\n 	Small backpack to carry snacks and water while riding. We
 ’ll be away from the cars for a few hours\n 	Any personal medication nee
 ded\n 	Any mountain bike protective gear (knee pads\, gloves\, etc) you mi
 ght own and typically wear on a ride\n 	Comfortable clothes to exercise in
 \n 	Some petrol money if you’re getting a lift with someone\n\nPlease ma
 ke sure to include any prior mountain biking experience in your signup com
 ment. As well as how you will be getting to the trails (bonus points if yo
 u can get yourself and another person there).\n\nAs always\, we can only t
 ake so many people so please don’t be disheartened if you don’t manage
  to get a spot. We will have more trips in the future.\n\nGet excited for 
 a super fun trip. Keen to see you all there!\n\n&nbsp\;
ATTACH;FMTTYPE=image/jpeg:https://unswoc.org/wordpress/wp-content/uploads/
 2024/07/IMG_1353-scaled.jpeg
CATEGORIES:Biking,Mountain Biking
LOCATION:https://maps.app.goo.gl/f2yqmhq33nDACjJF6?g_st=com.google.maps.pre
 view.copy
END:VEVENT
BEGIN:VTIMEZONE
TZID:Australia/Sydney
X-LIC-LOCATION:Australia/Sydney
BEGIN:STANDARD
DTSTART:20240407T020000
TZOFFSETFROM:+1100
TZOFFSETTO:+1000
TZNAME:AEST
END:STANDARD
END:VTIMEZONE
END:VCALENDAR