BEGIN:VCALENDAR
VERSION:2.0
PRODID:-//wp-events-plugin.com//7.2.3.1//EN
TZID:Australia/Sydney
X-WR-TIMEZONE:Australia/Sydney
BEGIN:VEVENT
UID:3356@unswoc.org
DTSTART;TZID=Australia/Sydney:20231111T090000
DTEND;TZID=Australia/Sydney:20231111T170000
DTSTAMP:20231110T045539Z
URL:https://unswoc.org/wordpress/events/intermediate-kayak-berowra-creek/
SUMMARY:[FULL] Intermediate kayak - Berowra Creek
DESCRIPTION:Please read the entire post and answer all questions before sig
 ning up.\n\nHi all!\n\nHow strong are your arms from all the climbing? Fee
 l like a slightly different challenge?\n\nEmily and I (Katie) are running
  a flat water kayaking trip in Berowra Creek. Be prepared to give those ar
 ms a good workout\, with a 12km return paddle along the beautiful Berowra 
 Creek including with lovely views of Kuring-gai crag\, hidden beaches and 
 lush forest. We'll be following a portion of this route: Berowra waters.\n
 \nParticipants need to be competent swimmers\, good at kayaking and handli
 ng cold water\, and prepared (mentally) for a big day of kayaking (12km+).
  Due to having to transport kayaks\, preference will be given to those wit
 h cars and roof racks\, and we can increase numbers if people have their o
 wn sea kayak and a way to transport. I'm going to add again\, be prepared 
 for a long day!\n\nPLEASE comment in the comment section if you have a car
  and roof racks and what type of kayak you have if you own one.\n\n\n\n 	K
 ayaking gear that will be provided:\n\n 	Kayak (sea kayaks only)\n 	Paddle
 s\n 	Life jackets\n\n\n\n\n 	Gear not provided:\n\n 	Emergency blanket You
  can buy one from the gear cupboard for $5 cash or most outdoor stores)\n 
 	Backpack that can fit your gear inside and will fit within the inner comp
 artment of the sea kayak\n 	Drybags (we'll be in a river and you may fall 
 out!)\n\n\n\n\n 	Clothing:\n\n 	Enclosed shoes/sandals\n 	Hat\, sunglasses
  &amp\; sunscreen\n 	Wool socks\n 	Thermals\n 	Wetsuit if you run cold or 
 are planning on bringing a sit on top kayak\n 	Raincoat or windbreaker reg
 ardless of weather\n 	NO COTTON!\n\n\n 	Food:\n\n 	2L of water in bottles.
 \n 	Food for the day\n 	Snacks (chocolate or something nice to share!)\n\n
 \n 	Miscellaneous:\n\n 	Any personal medicine (asthma puffer\, Epipen etc)
 \n 	A pair of thongs/flipflops (jandals if you're a kiwi like me) for walk
 ing around on the beaches (since your shoes will get wet)\n 	Phone or came
 ra for photos (optional\, and only if you’re prepared for it to get wet 
 if your drybag leaks! Bring a ziploc bag or two to protect it)\n\n\n\nIf y
 ou have any questions give myself or Emily a message on Facebook.\n\nOnce 
 again please let us know in the comments:\n\n 	If you have a car and roofr
 acks\n 	Your kayaking/swimming experience\n 	If you have your own kayak an
 d what type it is\n 	Also please comment with your favourite and/or longes
 t kayak you've completed (if you love to suffer like I do)\n\n&nbsp\;
ATTACH;FMTTYPE=image/jpeg:https://unswoc.org/wordpress/wp-content/uploads/
 2023/04/file-1.webp
CATEGORIES:Flat Water Kayaking,Kayaking
LOCATION:https://www.google.com/maps/place/Berowra+Waters+Marina/@-33.59944
 95,151.1179754,17z/data=!3m1!4b1!4m6!3m5!1s0x6b0d5b2f25f7c1fd:0x55b36d9650
 7c0cbf!8m2!3d-33.599454!4d151.1205503!16s%2Fg%2F11gky6pd7b?entry=ttu
END:VEVENT
BEGIN:VTIMEZONE
TZID:Australia/Sydney
X-LIC-LOCATION:Australia/Sydney
BEGIN:DAYLIGHT
DTSTART:20231001T030000
TZOFFSETFROM:+1000
TZOFFSETTO:+1100
TZNAME:AEDT
END:DAYLIGHT
END:VTIMEZONE
END:VCALENDAR